BEGIN:VCALENDAR
VERSION:2.0
PRODID:-//Rum Sugar Lime - ECPv6.15.20//NONSGML v1.0//EN
CALSCALE:GREGORIAN
METHOD:PUBLISH
X-WR-CALNAME:Rum Sugar Lime
X-ORIGINAL-URL:https://rumsugarlime.com
X-WR-CALDESC:Events for Rum Sugar Lime
REFRESH-INTERVAL;VALUE=DURATION:PT1H
X-Robots-Tag:noindex
X-PUBLISHED-TTL:PT1H
BEGIN:VTIMEZONE
TZID:America/Los_Angeles
BEGIN:DAYLIGHT
TZOFFSETFROM:-0800
TZOFFSETTO:-0700
TZNAME:PDT
DTSTART:20250309T100000
END:DAYLIGHT
BEGIN:STANDARD
TZOFFSETFROM:-0700
TZOFFSETTO:-0800
TZNAME:PST
DTSTART:20251102T090000
END:STANDARD
BEGIN:DAYLIGHT
TZOFFSETFROM:-0800
TZOFFSETTO:-0700
TZNAME:PDT
DTSTART:20260308T100000
END:DAYLIGHT
BEGIN:STANDARD
TZOFFSETFROM:-0700
TZOFFSETTO:-0800
TZNAME:PST
DTSTART:20261101T090000
END:STANDARD
BEGIN:DAYLIGHT
TZOFFSETFROM:-0800
TZOFFSETTO:-0700
TZNAME:PDT
DTSTART:20270314T100000
END:DAYLIGHT
BEGIN:STANDARD
TZOFFSETFROM:-0700
TZOFFSETTO:-0800
TZNAME:PST
DTSTART:20271107T090000
END:STANDARD
END:VTIMEZONE
BEGIN:VEVENT
DTSTART;TZID=America/Los_Angeles:20260502T210000
DTEND;TZID=America/Los_Angeles:20260502T233000
DTSTAMP:20260424T194503
CREATED:20260422T210656Z
LAST-MODIFIED:20260422T210656Z
UID:5926-1777755600-1777764600@rumsugarlime.com
SUMMARY:Heatwaves with Brio!
DESCRIPTION:Feels like summer showed up early! Coming up…🌴 🍹 \nSoft air. Warm sand. \nSomething playing in the background you can’t quite place— but don’t want to leave. \nHeatwaves is just around the corner with Brio!
URL:https://rumsugarlime.com/event/heatwaves-with-brio-2/
LOCATION:Rum Sugar Lime\, 1039 S Virginia St\, Reno\, NV 89502\, USA\, Reno\, NV\, 89502\, United States
CATEGORIES:DJs
ATTACH;FMTTYPE=image/jpeg:https://rumsugarlime.com/wp-content/uploads/2026/04/BRIO_Heatwaves_RSL_2026_IG-Post-45.jpg
END:VEVENT
END:VCALENDAR