BEGIN:VCALENDAR
VERSION:2.0
PRODID:-//Rum Sugar Lime - ECPv6.15.20//NONSGML v1.0//EN
CALSCALE:GREGORIAN
METHOD:PUBLISH
X-ORIGINAL-URL:https://rumsugarlime.com
X-WR-CALDESC:Events for Rum Sugar Lime
REFRESH-INTERVAL;VALUE=DURATION:PT1H
X-Robots-Tag:noindex
X-PUBLISHED-TTL:PT1H
BEGIN:VTIMEZONE
TZID:America/Los_Angeles
BEGIN:DAYLIGHT
TZOFFSETFROM:-0800
TZOFFSETTO:-0700
TZNAME:PDT
DTSTART:20240310T100000
END:DAYLIGHT
BEGIN:STANDARD
TZOFFSETFROM:-0700
TZOFFSETTO:-0800
TZNAME:PST
DTSTART:20241103T090000
END:STANDARD
BEGIN:DAYLIGHT
TZOFFSETFROM:-0800
TZOFFSETTO:-0700
TZNAME:PDT
DTSTART:20250309T100000
END:DAYLIGHT
BEGIN:STANDARD
TZOFFSETFROM:-0700
TZOFFSETTO:-0800
TZNAME:PST
DTSTART:20251102T090000
END:STANDARD
BEGIN:DAYLIGHT
TZOFFSETFROM:-0800
TZOFFSETTO:-0700
TZNAME:PDT
DTSTART:20260308T100000
END:DAYLIGHT
BEGIN:STANDARD
TZOFFSETFROM:-0700
TZOFFSETTO:-0800
TZNAME:PST
DTSTART:20261101T090000
END:STANDARD
END:VTIMEZONE
BEGIN:VEVENT
DTSTART;TZID=America/Los_Angeles:20251030T160000
DTEND;TZID=America/Los_Angeles:20251031T233000
DTSTAMP:20260420T033352
CREATED:20251002T162419Z
LAST-MODIFIED:20251002T163554Z
UID:5714-1761840000-1761953400@rumsugarlime.com
SUMMARY:☠️ Dead Man’s Chest ☠️
DESCRIPTION:Halloween Weekend 2025 at RSL \nStep aboard if you dare… The ghost ship has docked in MidTown Reno\, and its treasure chest is brimming with cursed rums\, sinister cocktails\, and spirits that whisper from beyond the fog. \nOur bartenders have conjured potions crafted for the brave — dark\, mysterious\, and dangerously delicious. \n⚓ Exclusive cocktails only for this weekend⚓ A bar transformed into a haunted pirate cove⚓ Rum flowing like the high seas at midnight \nThe chest unlocks at 4 PM. Will you survive the night? \n1039 S. Virginia St. ~ Reno\, NV
URL:https://rumsugarlime.com/event/%e2%98%a0%ef%b8%8f-dead-mans-chest-%e2%98%a0%ef%b8%8f/
LOCATION:Rum Sugar Lime\, 1039 S Virginia St\, Reno\, NV 89502\, USA\, Reno\, NV\, 89502\, United States
CATEGORIES:Special Events
ATTACH;FMTTYPE=image/png:https://rumsugarlime.com/wp-content/uploads/2025/10/RSL_DeadMansChest_square.png
END:VEVENT
END:VCALENDAR