BEGIN:VCALENDAR
VERSION:2.0
PRODID:-//Rum Sugar Lime - ECPv6.15.20//NONSGML v1.0//EN
CALSCALE:GREGORIAN
METHOD:PUBLISH
X-WR-CALNAME:Rum Sugar Lime
X-ORIGINAL-URL:https://rumsugarlime.com
X-WR-CALDESC:Events for Rum Sugar Lime
REFRESH-INTERVAL;VALUE=DURATION:PT1H
X-Robots-Tag:noindex
X-PUBLISHED-TTL:PT1H
BEGIN:VTIMEZONE
TZID:America/Los_Angeles
BEGIN:DAYLIGHT
TZOFFSETFROM:-0800
TZOFFSETTO:-0700
TZNAME:PDT
DTSTART:20240310T100000
END:DAYLIGHT
BEGIN:STANDARD
TZOFFSETFROM:-0700
TZOFFSETTO:-0800
TZNAME:PST
DTSTART:20241103T090000
END:STANDARD
BEGIN:DAYLIGHT
TZOFFSETFROM:-0800
TZOFFSETTO:-0700
TZNAME:PDT
DTSTART:20250309T100000
END:DAYLIGHT
BEGIN:STANDARD
TZOFFSETFROM:-0700
TZOFFSETTO:-0800
TZNAME:PST
DTSTART:20251102T090000
END:STANDARD
BEGIN:DAYLIGHT
TZOFFSETFROM:-0800
TZOFFSETTO:-0700
TZNAME:PDT
DTSTART:20260308T100000
END:DAYLIGHT
BEGIN:STANDARD
TZOFFSETFROM:-0700
TZOFFSETTO:-0800
TZNAME:PST
DTSTART:20261101T090000
END:STANDARD
END:VTIMEZONE
BEGIN:VEVENT
DTSTART;TZID=America/Los_Angeles:20250808T200000
DTEND;TZID=America/Los_Angeles:20250808T230000
DTSTAMP:20260420T010042
CREATED:20250630T150924Z
LAST-MODIFIED:20250630T150924Z
UID:5664-1754683200-1754694000@rumsugarlime.com
SUMMARY:Jazz In The Alley with Zach & Zack
DESCRIPTION:Lifelong friends and musical soulmates\, Zack & Zach bring their deep connection and dynamic chemistry to the stage for Jazz in the Alley at Nautilus RSL. With piano and upright bass in perfect harmony\, they blend classic jazz\, modern moods\, and spontaneous joy into an unforgettable night of live music. \nCome early\, grab a seat\, and sip something special while the alley fills with melody and magic. \nFriday\, August 8\nMusic by Zack & Zach\nNautilus at Rum Sugar Lime — 1039 1/2 S. Virginia St.\, Midtown Reno \nNo cover. Just good vibes. \n 
URL:https://rumsugarlime.com/event/jazz-in-the-alley-with-zach-zack/
LOCATION:Nautilus @ RSL\, 1039 1/2 S Virginia St\, Reno\, NV 89502\, USA\, Midtown\, Reno\, NV\, 89502\, United States
CATEGORIES:Jazz,Musicians
ATTACH;FMTTYPE=image/png:https://rumsugarlime.com/wp-content/uploads/2025/06/Nautilus_ZackZach_August8_square.png
END:VEVENT
END:VCALENDAR