BEGIN:VCALENDAR
VERSION:2.0
PRODID:-//Rum Sugar Lime - ECPv6.15.20//NONSGML v1.0//EN
CALSCALE:GREGORIAN
METHOD:PUBLISH
X-WR-CALNAME:Rum Sugar Lime
X-ORIGINAL-URL:https://rumsugarlime.com
X-WR-CALDESC:Events for Rum Sugar Lime
REFRESH-INTERVAL;VALUE=DURATION:PT1H
X-Robots-Tag:noindex
X-PUBLISHED-TTL:PT1H
BEGIN:VTIMEZONE
TZID:America/Los_Angeles
BEGIN:DAYLIGHT
TZOFFSETFROM:-0800
TZOFFSETTO:-0700
TZNAME:PDT
DTSTART:20240310T100000
END:DAYLIGHT
BEGIN:STANDARD
TZOFFSETFROM:-0700
TZOFFSETTO:-0800
TZNAME:PST
DTSTART:20241103T090000
END:STANDARD
BEGIN:DAYLIGHT
TZOFFSETFROM:-0800
TZOFFSETTO:-0700
TZNAME:PDT
DTSTART:20250309T100000
END:DAYLIGHT
BEGIN:STANDARD
TZOFFSETFROM:-0700
TZOFFSETTO:-0800
TZNAME:PST
DTSTART:20251102T090000
END:STANDARD
BEGIN:DAYLIGHT
TZOFFSETFROM:-0800
TZOFFSETTO:-0700
TZNAME:PDT
DTSTART:20260308T100000
END:DAYLIGHT
BEGIN:STANDARD
TZOFFSETFROM:-0700
TZOFFSETTO:-0800
TZNAME:PST
DTSTART:20261101T090000
END:STANDARD
END:VTIMEZONE
BEGIN:VEVENT
DTSTART;TZID=America/Los_Angeles:20250608T190000
DTEND;TZID=America/Los_Angeles:20250608T220000
DTSTAMP:20260419T222147
CREATED:20250508T225717Z
LAST-MODIFIED:20250509T003141Z
UID:5618-1749409200-1749420000@rumsugarlime.com
SUMMARY:Johnny Franco & His Real Brother Dom
DESCRIPTION:Get ready\, Reno — Johnny Franco & His Real Brother Dom are bringing their electric\, genre-bending swagger to Rum Sugar Lime on Saturday\, June 8! \nFresh off the Pickathon stage and bursting with charisma\, this Brazilian-born\, Portland-polished duo delivers high-energy rock ‘n’ soul with a twist of tropical heat. \nCome for the cocktails\, stay for the chaos (the good kind).\nMusic starts at 7 PM. No cover. All vibes.\nAs always\, we’re shaking up something strong\, fresh\, and unforgettable. \nThis is your summer kickoff. Don’t miss it. \n  \n\nJohnny Franco
URL:https://rumsugarlime.com/event/johnny-franco-his-real-brother-dom/
LOCATION:Rum Sugar Lime\, 1039 S Virginia St\, Reno\, NV 89502\, USA\, Reno\, NV\, 89502\, United States
CATEGORIES:Musicians
ATTACH;FMTTYPE=image/png:https://rumsugarlime.com/wp-content/uploads/2025/05/RSL_JohnnyFrancoDom_June8_square-1.png
END:VEVENT
BEGIN:VEVENT
DTSTART;TZID=America/Los_Angeles:20250619T190000
DTEND;TZID=America/Los_Angeles:20250619T220000
DTSTAMP:20260419T222147
CREATED:20250604T135909Z
LAST-MODIFIED:20250604T140005Z
UID:5635-1750359600-1750370400@rumsugarlime.com
SUMMARY:Sonido Sueño at RSL!
DESCRIPTION:Get ready\, Reno! \nOne of our absolute favorite groups is back—Sonido Sueño returns to RSL on Thursday\, June 19! \nImmerse yourself in the infectious rhythms of Brazilian and Latin music\, brought to life by some of the most talented musicians in town. The vibes are lush\, the beats are irresistible\, and the cocktails? As always\, on point. \nDon’t miss this tropical sound journey—only at Rum Sugar Lime. ✨
URL:https://rumsugarlime.com/event/sonido-sueno-at-rsl-4/
LOCATION:Rum Sugar Lime\, 1039 S Virginia St\, Reno\, NV 89502\, USA\, Reno\, NV\, 89502\, United States
CATEGORIES:Musicians
ATTACH;FMTTYPE=image/png:https://rumsugarlime.com/wp-content/uploads/2025/06/RSL_SonidoSueno_June19_square.png
END:VEVENT
BEGIN:VEVENT
DTSTART;TZID=America/Los_Angeles:20250622T150000
DTEND;TZID=America/Los_Angeles:20250622T190000
DTSTAMP:20260419T222147
CREATED:20250610T195109Z
LAST-MODIFIED:20250619T193832Z
UID:5639-1750604400-1750618800@rumsugarlime.com
SUMMARY:Industry Tasting with Sake Ono
DESCRIPTION:Sake Redefined — at a Rum Bar? Yes!\nJoin us at Rum Sugar Lime for an industry tasting with Sake Ono\, where tradition meets modern refinement. \nSunday\, June 22\n⏰ 3–4 PM Industry Tasting Presentation\n   4-7 PM HAPPY HOUR OPEN TO THE PUBLIC\n 1039 S. Virginia St.\, MidTown Reno \nWe may be Reno’s favorite rum bar\, but we’ve got love for all spirits crafted with intention. Sake Ono curates a portfolio that honors heritage while embracing innovation—offering sake and Japanese spirits that are expressive\, elegant\, and refreshingly unexpected. \nIf you’re in the industry and curious about what “sake redefined” really means\, this tasting is for you. No cost—just come thirsty to learn.
URL:https://rumsugarlime.com/event/industry-tasting-with-sake-ono/
LOCATION:Rum Sugar Lime\, 1039 S Virginia St\, Reno\, NV 89502\, USA\, Reno\, NV\, 89502\, United States
CATEGORIES:Special Events
ATTACH;FMTTYPE=image/png:https://rumsugarlime.com/wp-content/uploads/2025/06/RSL_SakeOno_June22_square.png
END:VEVENT
END:VCALENDAR