BEGIN:VCALENDAR
VERSION:2.0
PRODID:-//Rum Sugar Lime - ECPv6.15.20//NONSGML v1.0//EN
CALSCALE:GREGORIAN
METHOD:PUBLISH
X-WR-CALNAME:Rum Sugar Lime
X-ORIGINAL-URL:https://rumsugarlime.com
X-WR-CALDESC:Events for Rum Sugar Lime
REFRESH-INTERVAL;VALUE=DURATION:PT1H
X-Robots-Tag:noindex
X-PUBLISHED-TTL:PT1H
BEGIN:VTIMEZONE
TZID:America/Los_Angeles
BEGIN:DAYLIGHT
TZOFFSETFROM:-0800
TZOFFSETTO:-0700
TZNAME:PDT
DTSTART:20240310T100000
END:DAYLIGHT
BEGIN:STANDARD
TZOFFSETFROM:-0700
TZOFFSETTO:-0800
TZNAME:PST
DTSTART:20241103T090000
END:STANDARD
BEGIN:DAYLIGHT
TZOFFSETFROM:-0800
TZOFFSETTO:-0700
TZNAME:PDT
DTSTART:20250309T100000
END:DAYLIGHT
BEGIN:STANDARD
TZOFFSETFROM:-0700
TZOFFSETTO:-0800
TZNAME:PST
DTSTART:20251102T090000
END:STANDARD
BEGIN:DAYLIGHT
TZOFFSETFROM:-0800
TZOFFSETTO:-0700
TZNAME:PDT
DTSTART:20260308T100000
END:DAYLIGHT
BEGIN:STANDARD
TZOFFSETFROM:-0700
TZOFFSETTO:-0800
TZNAME:PST
DTSTART:20261101T090000
END:STANDARD
END:VTIMEZONE
BEGIN:VEVENT
DTSTART;TZID=America/Los_Angeles:20250207T190000
DTEND;TZID=America/Los_Angeles:20250207T233000
DTSTAMP:20260419T161436
CREATED:20250129T012534Z
LAST-MODIFIED:20250129T012534Z
UID:5539-1738954800-1738971000@rumsugarlime.com
SUMMARY:Category is: Cocktails!
DESCRIPTION:Get ready to werk it at Nautilus RSL on Friday\, February 7th! ✨ \n“Category is: Cocktails!” kicks off at 7 PM\, serving up fierce vibes with special cocktails and a live showing of RuPaul’s Drag Race. \nGrab your crew\, sip something fabulous\, and sashay your way to the best Friday night in Reno. \nDon’t forget to bring your charisma\, uniqueness\, nerve\, and talent!  \n 
URL:https://rumsugarlime.com/event/category-is-cocktails/
LOCATION:Nautilus RSL\, 1039 1/2 S. Virginia Street\, Reno\, NV\, 89501\, United States
CATEGORIES:Nautilus Reno,Special Events
ATTACH;FMTTYPE=image/png:https://rumsugarlime.com/wp-content/uploads/2025/01/Nautilus_DragCocktails_square.png
END:VEVENT
BEGIN:VEVENT
DTSTART;TZID=America/Los_Angeles:20250212T080000
DTEND;TZID=America/Los_Angeles:20250212T170000
DTSTAMP:20260419T161436
CREATED:20250212T210018Z
LAST-MODIFIED:20250212T210018Z
UID:5558-1739347200-1739379600@rumsugarlime.com
SUMMARY:International Women's Day Supporting Nevada Women's Fund
DESCRIPTION:On March 8\, in honor of International Women’s Day\, Rum Sugar Lime will donate $1 from every cocktail sold to the Nevada Women’s Fund. Join us in raising a glass to support and empower women in our community! ✨ #IWD #SupportWomen
URL:https://rumsugarlime.com/event/international-womens-day-supporting-nevada-womens-fund/
LOCATION:NV
CATEGORIES:Special Events
ATTACH;FMTTYPE=image/png:https://rumsugarlime.com/wp-content/uploads/2025/02/RSL_NevadaWomensFund_square.png
END:VEVENT
BEGIN:VEVENT
DTSTART;TZID=America/Los_Angeles:20250215T160000
DTEND;TZID=America/Los_Angeles:20250215T233000
DTSTAMP:20260419T161436
CREATED:20250203T170955Z
LAST-MODIFIED:20250203T170955Z
UID:5552-1739635200-1739662200@rumsugarlime.com
SUMMARY:Galentine's Party @ RSL!
DESCRIPTION:Galentine’s Day at RSL – Saturday\, February 15th! ✨ \nGrab your besties and join us for a night of love\, laughter\, and very special cocktails!  On Saturday\, February 15th\, we’re celebrating Galentine’s in style with handcrafted drinks made just for the occasion. No dates needed—just you\, your crew\, and a perfect night out. \nCome sip\, toast\, and dance the night away at RSL!  \n#Galentines \n 
URL:https://rumsugarlime.com/event/galentines-party-rsl/
LOCATION:Rum Sugar Lime\, 1039 S Virginia St\, Reno\, NV 89502\, USA\, Reno\, NV\, 89502\, United States
CATEGORIES:Special Events
ATTACH;FMTTYPE=image/png:https://rumsugarlime.com/wp-content/uploads/2025/02/RSL_GalentinesParty_square.png
END:VEVENT
BEGIN:VEVENT
DTSTART;TZID=America/Los_Angeles:20250228T180000
DTEND;TZID=America/Los_Angeles:20250228T200000
DTSTAMP:20260419T161436
CREATED:20250130T211837Z
LAST-MODIFIED:20250130T212107Z
UID:5545-1740765600-1740772800@rumsugarlime.com
SUMMARY:Reno Rum Club Goes Renegade!
DESCRIPTION:Join us for an exclusive Reno Rum Club event on Friday\, February 28th (6pm)\, at Nautilus RSL\, our private event space. \nThis special evening is sponsored by Renegade Rum and Breakthru Beverage Nevada\, featuring expertly guided tastings of Renegade’s premium rums. \nTickets are $60 per person\, with limited availability. \nTickets are transferable but non-refundable\, so secure your spot now for this exceptional rum experience!
URL:https://rumsugarlime.com/event/reno-rum-club-goes-renegade/
LOCATION:NV
CATEGORIES:Nautilus Reno,Reno Rum Club,Special Events
ATTACH;FMTTYPE=image/png:https://rumsugarlime.com/wp-content/uploads/2025/01/RRC_Feburary282025_square.png
END:VEVENT
END:VCALENDAR