BEGIN:VCALENDAR
VERSION:2.0
PRODID:-//Rum Sugar Lime - ECPv6.15.20//NONSGML v1.0//EN
CALSCALE:GREGORIAN
METHOD:PUBLISH
X-ORIGINAL-URL:https://rumsugarlime.com
X-WR-CALDESC:Events for Rum Sugar Lime
REFRESH-INTERVAL;VALUE=DURATION:PT1H
X-Robots-Tag:noindex
X-PUBLISHED-TTL:PT1H
BEGIN:VTIMEZONE
TZID:America/Los_Angeles
BEGIN:DAYLIGHT
TZOFFSETFROM:-0800
TZOFFSETTO:-0700
TZNAME:PDT
DTSTART:20230312T100000
END:DAYLIGHT
BEGIN:STANDARD
TZOFFSETFROM:-0700
TZOFFSETTO:-0800
TZNAME:PST
DTSTART:20231105T090000
END:STANDARD
BEGIN:DAYLIGHT
TZOFFSETFROM:-0800
TZOFFSETTO:-0700
TZNAME:PDT
DTSTART:20240310T100000
END:DAYLIGHT
BEGIN:STANDARD
TZOFFSETFROM:-0700
TZOFFSETTO:-0800
TZNAME:PST
DTSTART:20241103T090000
END:STANDARD
BEGIN:DAYLIGHT
TZOFFSETFROM:-0800
TZOFFSETTO:-0700
TZNAME:PDT
DTSTART:20250309T100000
END:DAYLIGHT
BEGIN:STANDARD
TZOFFSETFROM:-0700
TZOFFSETTO:-0800
TZNAME:PST
DTSTART:20251102T090000
END:STANDARD
END:VTIMEZONE
BEGIN:VEVENT
DTSTART;TZID=America/Los_Angeles:20241101T160000
DTEND;TZID=America/Los_Angeles:20241103T233000
DTSTAMP:20260419T112605
CREATED:20240923T154203Z
LAST-MODIFIED:20240923T154326Z
UID:5334-1730476800-1730676600@rumsugarlime.com
SUMMARY:Halloween Weekend @ RSL
DESCRIPTION:Ahoy\, mateys! This Halloween weekend at Rum Sugar Lime (RSL)\, join us for a spooky adventure of pirates and buccaneers in search of their most prized treasure—cocktails! \nSet sail into a world of dark and stormy seas\, hidden surprises\, and thrilling fun. Our crew has crafted exclusive drinks just for the brave souls who dare to embark on this swashbuckling journey. \nGather your mates\, don your best pirate gear\, and prepare for a night of seafaring mischief\, music\, and unexpected delights. The treasure hunt begins at RSL—don’t miss the spookiest pirate party in town! \n 
URL:https://rumsugarlime.com/event/halloween-weekend-rsl/
LOCATION:NV
CATEGORIES:Holiday
ATTACH;FMTTYPE=image/png:https://rumsugarlime.com/wp-content/uploads/2024/09/RSL_HalloweenWeekend2024_square.png
END:VEVENT
BEGIN:VEVENT
DTSTART;TZID=America/Los_Angeles:20241101T210000
DTEND;TZID=America/Los_Angeles:20241101T230000
DTSTAMP:20260419T112605
CREATED:20241009T212456Z
LAST-MODIFIED:20241026T205059Z
UID:5435-1730494800-1730502000@rumsugarlime.com
SUMMARY:Cocktails with Kendall Hoopes In NautilusRSL
DESCRIPTION:Join us at Nautilus RSL on select Friday and Saturday nights this November for an unforgettable experience with Kendall Hoopes. \nImmerse yourself in our relaxing lounge atmosphere\, where the vibe is laid-back\, and the cocktails are expertly crafted to perfection. \nWhether you’re unwinding after a long week or catching up with friends\, our chill\, sophisticated setting is the perfect backdrop for Kendall’s smooth sounds. \nSip on one of our signature drinks and let the evening unfold in style. See you at Nautilus RSL\, where great music and great drinks meet.
URL:https://rumsugarlime.com/event/cocktails-with-kendall-hoopes-in-nautilus-rl/
LOCATION:Nautilus RSL\, 1039 1/2 S. Virginia Street\, Reno\, NV\, 89501\, United States
CATEGORIES:Jazz,Musicians,Nautilus Reno
ATTACH;FMTTYPE=image/png:https://rumsugarlime.com/wp-content/uploads/2024/10/Nautilus_KendallHoopes_nov_square-1.png
END:VEVENT
BEGIN:VEVENT
DTSTART;TZID=America/Los_Angeles:20241108T200000
DTEND;TZID=America/Los_Angeles:20241108T230000
DTSTAMP:20260419T112605
CREATED:20241103T155149Z
LAST-MODIFIED:20241103T155149Z
UID:5453-1731096000-1731106800@rumsugarlime.com
SUMMARY:Cocktails with Kendall Hoopes
DESCRIPTION:Join Us for a relaxing evening of piano with Kendall Hoopes!\n\nEnjoy a night of exquisite seasonal and classic cocktails in our intimate lounge setting. Let the music and ambiance transport you to a world of pure piano bar magic.\n\n No cover charge – just pure musical talent and delightful drinks.\nMark your calendars and bring your friends for an unforgettable evening with us!
URL:https://rumsugarlime.com/event/cocktails-with-kendall-hoopes/
LOCATION:Nautilus RSL\, 1039 1/2 S. Virginia Street\, Reno\, NV\, 89501\, United States
CATEGORIES:Musicians,Nautilus Reno
ATTACH;FMTTYPE=image/png:https://rumsugarlime.com/wp-content/uploads/2024/11/Nautilus_KendallHoopes_nov8_square.png
END:VEVENT
BEGIN:VEVENT
DTSTART;TZID=America/Los_Angeles:20241122T200000
DTEND;TZID=America/Los_Angeles:20241122T220000
DTSTAMP:20260419T112605
CREATED:20241116T163749Z
LAST-MODIFIED:20241116T164630Z
UID:5457-1732305600-1732312800@rumsugarlime.com
SUMMARY:Cocktails with Kendall Hoopes
DESCRIPTION:Join Us for a relaxing evening of piano with Kendall Hoopes!Enjoy a night of exquisite seasonal and classic cocktails in our intimate lounge setting. Let the music and ambiance transport you to a world of pure piano bar magic. No cover charge – just pure musical talent and delightful drinks.Mark your calendars and bring your friends for an relaxing evening with us!
URL:https://rumsugarlime.com/event/cocktails-with-kendall-hoopes-2/
LOCATION:Nautilus RSL\, 1039 1/2 S. Virginia Street\, Reno\, NV\, 89501\, United States
CATEGORIES:Musicians,Nautilus Reno
ATTACH;FMTTYPE=image/png:https://rumsugarlime.com/wp-content/uploads/2024/11/Nautilus_KendallHoopes_nov22_square.png
END:VEVENT
END:VCALENDAR