BEGIN:VCALENDAR
VERSION:2.0
PRODID:-//Rum Sugar Lime - ECPv6.15.20//NONSGML v1.0//EN
CALSCALE:GREGORIAN
METHOD:PUBLISH
X-WR-CALNAME:Rum Sugar Lime
X-ORIGINAL-URL:https://rumsugarlime.com
X-WR-CALDESC:Events for Rum Sugar Lime
REFRESH-INTERVAL;VALUE=DURATION:PT1H
X-Robots-Tag:noindex
X-PUBLISHED-TTL:PT1H
BEGIN:VTIMEZONE
TZID:America/Los_Angeles
BEGIN:DAYLIGHT
TZOFFSETFROM:-0800
TZOFFSETTO:-0700
TZNAME:PDT
DTSTART:20230312T100000
END:DAYLIGHT
BEGIN:STANDARD
TZOFFSETFROM:-0700
TZOFFSETTO:-0800
TZNAME:PST
DTSTART:20231105T090000
END:STANDARD
BEGIN:DAYLIGHT
TZOFFSETFROM:-0800
TZOFFSETTO:-0700
TZNAME:PDT
DTSTART:20240310T100000
END:DAYLIGHT
BEGIN:STANDARD
TZOFFSETFROM:-0700
TZOFFSETTO:-0800
TZNAME:PST
DTSTART:20241103T090000
END:STANDARD
BEGIN:DAYLIGHT
TZOFFSETFROM:-0800
TZOFFSETTO:-0700
TZNAME:PDT
DTSTART:20250309T100000
END:DAYLIGHT
BEGIN:STANDARD
TZOFFSETFROM:-0700
TZOFFSETTO:-0800
TZNAME:PST
DTSTART:20251102T090000
END:STANDARD
END:VTIMEZONE
BEGIN:VEVENT
DTSTART;TZID=America/Los_Angeles:20241011T210000
DTEND;TZID=America/Los_Angeles:20241011T233000
DTSTAMP:20260419T100732
CREATED:20240912T221406Z
LAST-MODIFIED:20240912T221406Z
UID:5315-1728680400-1728689400@rumsugarlime.com
SUMMARY:DJ BRIO @ RSL
DESCRIPTION:Friday\, October 11th\, Rum Sugar Lime is turning all the way up! \nDJ Brio is taking over with a fire mix of tropical house and disco that’s guaranteed to keep you dancing all night. \nExpect high energy\, nonstop vibes\, and beats that just hit different. \nAnd while you’re moving\, don’t forget to grab one of Reno’s freshest cocktails—perfectly crafted and packed with flavor. \nThis is the kind of night that gets talked about. See you at RSL\, where good times roll and the party stays on point!
URL:https://rumsugarlime.com/event/dj-brio-rsl-2/
LOCATION:Rum Sugar Lime\, 1039 S Virginia St\, Reno\, NV 89502\, USA\, Reno\, NV\, 89502\, United States
CATEGORIES:DJs
ATTACH;FMTTYPE=image/png:https://rumsugarlime.com/wp-content/uploads/2024/09/RSL_DJBRIO_OCT11_square-copy.png
END:VEVENT
BEGIN:VEVENT
DTSTART;TZID=America/Los_Angeles:20241019T210000
DTEND;TZID=America/Los_Angeles:20241019T233000
DTSTAMP:20260419T100732
CREATED:20240923T154808Z
LAST-MODIFIED:20240923T154808Z
UID:5337-1729371600-1729380600@rumsugarlime.com
SUMMARY:DJ Ivan The Terrible @ RSL
DESCRIPTION:Get ready to move your soul with DJ Ivan The Terrible at Rum Sugar Lime (RSL)! Join us for a night of tropical house and disco beats that will keep you grooving all night long. \nSip on some of the best craft cocktails in town while DJ Ivan spins a mix that will transport you to paradise. Whether you’re here for the music\, the drinks\, or both\, this is a night you won’t want to miss!
URL:https://rumsugarlime.com/event/dj-ivan-the-terrible-rsl-2/
LOCATION:NV
CATEGORIES:DJs
ATTACH;FMTTYPE=image/png:https://rumsugarlime.com/wp-content/uploads/2024/09/RSL_DJIVAN_October19_Square-01.png
END:VEVENT
BEGIN:VEVENT
DTSTART;TZID=America/Los_Angeles:20241031T190000
DTEND;TZID=America/Los_Angeles:20241031T233000
DTSTAMP:20260419T100732
CREATED:20241009T203719Z
LAST-MODIFIED:20241009T214539Z
UID:5431-1730401200-1730417400@rumsugarlime.com
SUMMARY:Reno Hip Hop Night at NautilusRSL
DESCRIPTION:Get ready for a spooky\, unforgettable night of beats and rhymes at Reno Hip Hop Night! \nJoin us at Nautilus RSL for a Halloween edition\, featuring the electrifying Atom B and the cosmic\, otherworldly sounds of Keeper of the Universe. \nDoors Creep Open: 7 PM\nMusic Haunts the Night: 8:30 PM\nNo Cover Charge—It’s Frighteningly Free! \nEnter through the shadowy alley and step into the heart of Reno’s hip hop scene. Don’t miss out on this eerie\, epic night of music\, spooky vibes\, and community. \nCostumes encouraged! See you there… if you dare!
URL:https://rumsugarlime.com/event/reno-hip-hop-night-at-nautilusrsl-3/
LOCATION:NV
CATEGORIES:DJs,Holiday,Nautilus Reno,Special Events
ATTACH;FMTTYPE=image/png:https://rumsugarlime.com/wp-content/uploads/2024/10/FFBA1CBC-2663-48AE-B3E2-1441F6BADF25_612x612_150dpi.png
END:VEVENT
BEGIN:VEVENT
DTSTART;TZID=America/Los_Angeles:20241031T210000
DTEND;TZID=America/Los_Angeles:20241031T233000
DTSTAMP:20260419T100732
CREATED:20240912T223015Z
LAST-MODIFIED:20240912T223128Z
UID:5319-1730408400-1730417400@rumsugarlime.com
SUMMARY:Set Sail Halloween Weekend with Cruz Control featuring Whitney Myer
DESCRIPTION:Ahoy\, mateys! \n\nSet sail into a spine-chilling weekend at Rum Sugar Lime (RSL) for our Halloween Weekend Kick-off! Prepare to be mesmerized as Cruz Control featuring Whitney Myer takes the stage with electrifying live music to keep the spirits high.\n\nDress in your pirate best or spookiest attire\, because we’ve got plenty of treasures and surprises waiting for ye\, including special holiday cocktails crafted to bring out your inner swashbuckler or sea witch. $10 at the door grants you a Welcome Drink guaranteed to make you shiver your timbers! \n\nJoin us for a night of eerie enchantment\, where the only thing scarier than missing out… is the fun you’ll have! Arrrrr you ready?\n Halloween Night – Thursday\, October 31st Location: Rum Sugar Lime (RSL) Live music: Cruz Control featuring Whitney Myer Specials: Halloween cocktails and spooky surprises!\n\nBe there… if you dare!
URL:https://rumsugarlime.com/event/set-sail-halloween-weekend-with-cruz-control-featuring-whitney-myer/
LOCATION:Rum Sugar Lime\, 1039 S Virginia St\, Reno\, NV 89502\, USA\, Reno\, NV\, 89502\, United States
CATEGORIES:Musicians,Special Events
ATTACH;FMTTYPE=image/png:https://rumsugarlime.com/wp-content/uploads/2024/09/RSL_Halloween2024_square.png
END:VEVENT
END:VCALENDAR