BEGIN:VCALENDAR
VERSION:2.0
PRODID:-//Rum Sugar Lime - ECPv6.15.20//NONSGML v1.0//EN
CALSCALE:GREGORIAN
METHOD:PUBLISH
X-ORIGINAL-URL:https://rumsugarlime.com
X-WR-CALDESC:Events for Rum Sugar Lime
REFRESH-INTERVAL;VALUE=DURATION:PT1H
X-Robots-Tag:noindex
X-PUBLISHED-TTL:PT1H
BEGIN:VTIMEZONE
TZID:America/Los_Angeles
BEGIN:DAYLIGHT
TZOFFSETFROM:-0800
TZOFFSETTO:-0700
TZNAME:PDT
DTSTART:20230312T100000
END:DAYLIGHT
BEGIN:STANDARD
TZOFFSETFROM:-0700
TZOFFSETTO:-0800
TZNAME:PST
DTSTART:20231105T090000
END:STANDARD
BEGIN:DAYLIGHT
TZOFFSETFROM:-0800
TZOFFSETTO:-0700
TZNAME:PDT
DTSTART:20240310T100000
END:DAYLIGHT
BEGIN:STANDARD
TZOFFSETFROM:-0700
TZOFFSETTO:-0800
TZNAME:PST
DTSTART:20241103T090000
END:STANDARD
BEGIN:DAYLIGHT
TZOFFSETFROM:-0800
TZOFFSETTO:-0700
TZNAME:PDT
DTSTART:20250309T100000
END:DAYLIGHT
BEGIN:STANDARD
TZOFFSETFROM:-0700
TZOFFSETTO:-0800
TZNAME:PST
DTSTART:20251102T090000
END:STANDARD
END:VTIMEZONE
BEGIN:VEVENT
DTSTART;TZID=America/Los_Angeles:20240802T200000
DTEND;TZID=America/Los_Angeles:20240802T220000
DTSTAMP:20260419T072114
CREATED:20240612T233219Z
LAST-MODIFIED:20240612T233343Z
UID:5198-1722628800-1722636000@rumsugarlime.com
SUMMARY:PIANO with Kendall Hoopes
DESCRIPTION:Join Us for an Enchanting Evening of Piano with Kendall Hoopes!\nImmerse yourself in the captivating melodies of Kendall Hoopes on Friday\, August 2nd at 8pm at the Nautilus RSL. Enjoy a night of exquisite seasonal and classic cocktails in our intimate lounge setting. Let the music and ambiance transport you to a world of pure piano bar magic.\n No cover charge – just pure musical talent and delightful drinks.\nMark your calendars and bring your friends for an unforgettable evening with us!
URL:https://rumsugarlime.com/event/piano-with-kendall-hoopes/
LOCATION:Nautilus RSL\, 1039 1/2 S. Virginia Street\, Reno\, NV\, 89501\, United States
CATEGORIES:Musicians,Nautilus Reno
ATTACH;FMTTYPE=image/png:https://rumsugarlime.com/wp-content/uploads/2024/06/Nautilus_KendallHoopes_8.2.24_square-01.png
END:VEVENT
BEGIN:VEVENT
DTSTART;TZID=America/Los_Angeles:20240809T210000
DTEND;TZID=America/Los_Angeles:20240809T233000
DTSTAMP:20260419T072114
CREATED:20240722T180245Z
LAST-MODIFIED:20240722T180245Z
UID:5261-1723237200-1723246200@rumsugarlime.com
SUMMARY:Sonido Sueño at RSL
DESCRIPTION:Feel the rhythm of summer come alive at Sonido Sueño!\n\nWe’re back with a sizzling lineup of Brazilian and Latin jazz that will transport you to the heart of Rio.\nJoin us for evenings filled with vibrant melodies and infectious beats\, creating the perfect soundtrack to your summer nights.\n\nBut that’s not all – indulge in our refreshing array of tropical cocktails expertly crafted to complement the lively vibe.\nSip on a Caipirinha or a Mojito as you immerse yourself in the sultry sounds of bossa nova and salsa.\n\nWhether you’re a jazz aficionado or simply seeking a taste of the exotic\,\nSonido Sueño promises an unforgettable experience where music and mixology intertwine to create pure summer bliss.\n\nSaúde!\n#SonidoSueñoReturns #BrazilianJazz #LatinJazz #RumSugarLime \n 
URL:https://rumsugarlime.com/event/sonido-sueno-at-rsl-3/
LOCATION:Rum Sugar Lime\, 1039 S Virginia St\, Reno\, NV 89502\, USA\, Reno\, NV\, 89502\, United States
CATEGORIES:Jazz
ATTACH;FMTTYPE=image/png:https://rumsugarlime.com/wp-content/uploads/2024/07/RSL_SonidoSueno_August-9_square-01.png
END:VEVENT
BEGIN:VEVENT
DTSTART;TZID=America/Los_Angeles:20240830T180000
DTEND;TZID=America/Los_Angeles:20240830T193000
DTSTAMP:20260419T072114
CREATED:20240805T153349Z
LAST-MODIFIED:20240805T154002Z
UID:5269-1725040800-1725046200@rumsugarlime.com
SUMMARY:Explore Caribbean Cocktails @ Reno Rum Club!
DESCRIPTION:August’s meeting explores delicious Caribbean Cocktails!\n\n$50/person includes three Carribean rum cocktails\, membership and personalized Reno Rum Club Passport plus exclusive club discounts.\n\nLimited to 30 seats.All sales final.**Members agree to Reno Rum Club Rules\n\nTickets: https://square.link/u/JK9mcPvu
URL:https://rumsugarlime.com/event/explore-caribbean-cocktails-reno-rum-club/
LOCATION:NV
CATEGORIES:Nautilus Reno,Special Events
ATTACH;FMTTYPE=image/png:https://rumsugarlime.com/wp-content/uploads/2024/08/RRC_August30_square-01.png
END:VEVENT
BEGIN:VEVENT
DTSTART;TZID=America/Los_Angeles:20240830T190000
DTEND;TZID=America/Los_Angeles:20240830T233000
DTSTAMP:20260419T072114
CREATED:20240730T201222Z
LAST-MODIFIED:20240730T201222Z
UID:5265-1725044400-1725060600@rumsugarlime.com
SUMMARY:Reno Hip Hop Night at NautilusRSL
DESCRIPTION:Get ready for another unforgettable evening of beats and rhymes at Reno Hip Hop Night!\nJoin us at Nautilus RSL for a night featuring the electrifying Atom B and the cosmic sounds of the Keeper of the Universe.\n\nDoors Open: 7 PMMusic Starts: 8:30 PMNo Cover Charge!\n\nEnter through the alley and dive into the heart of Reno’s hip hop scene. Don’t miss out on this epic night of music\, vibes\, and community.\nSee you there!
URL:https://rumsugarlime.com/event/reno-hip-hop-night-at-nautilusrsl-2/
LOCATION:NV
CATEGORIES:Nautilus Reno,Special Events
ATTACH;FMTTYPE=image/png:https://rumsugarlime.com/wp-content/uploads/2024/07/30_Square-01.png
END:VEVENT
END:VCALENDAR