BEGIN:VCALENDAR
VERSION:2.0
PRODID:-//Rum Sugar Lime - ECPv6.15.20//NONSGML v1.0//EN
CALSCALE:GREGORIAN
METHOD:PUBLISH
X-WR-CALNAME:Rum Sugar Lime
X-ORIGINAL-URL:https://rumsugarlime.com
X-WR-CALDESC:Events for Rum Sugar Lime
REFRESH-INTERVAL;VALUE=DURATION:PT1H
X-Robots-Tag:noindex
X-PUBLISHED-TTL:PT1H
BEGIN:VTIMEZONE
TZID:America/Los_Angeles
BEGIN:DAYLIGHT
TZOFFSETFROM:-0800
TZOFFSETTO:-0700
TZNAME:PDT
DTSTART:20230312T100000
END:DAYLIGHT
BEGIN:STANDARD
TZOFFSETFROM:-0700
TZOFFSETTO:-0800
TZNAME:PST
DTSTART:20231105T090000
END:STANDARD
BEGIN:DAYLIGHT
TZOFFSETFROM:-0800
TZOFFSETTO:-0700
TZNAME:PDT
DTSTART:20240310T100000
END:DAYLIGHT
BEGIN:STANDARD
TZOFFSETFROM:-0700
TZOFFSETTO:-0800
TZNAME:PST
DTSTART:20241103T090000
END:STANDARD
BEGIN:DAYLIGHT
TZOFFSETFROM:-0800
TZOFFSETTO:-0700
TZNAME:PDT
DTSTART:20250309T100000
END:DAYLIGHT
BEGIN:STANDARD
TZOFFSETFROM:-0700
TZOFFSETTO:-0800
TZNAME:PST
DTSTART:20251102T090000
END:STANDARD
END:VTIMEZONE
BEGIN:VEVENT
DTSTART;TZID=America/Los_Angeles:20240719T210000
DTEND;TZID=America/Los_Angeles:20240719T233000
DTSTAMP:20260419T054804
CREATED:20240627T185756Z
LAST-MODIFIED:20240627T185756Z
UID:5208-1721422800-1721431800@rumsugarlime.com
SUMMARY:Sonido Sueño at RSL
DESCRIPTION:Feel the rhythm of summer come alive at Sonido Sueño!\n\nWe’re back with a sizzling lineup of Brazilian and Latin jazz that will transport you to the heart of Rio.\nJoin us for evenings filled with vibrant melodies and infectious beats\, creating the perfect soundtrack to your summer nights.\n\nBut that’s not all – indulge in our refreshing array of tropical cocktails expertly crafted to complement the lively vibe.\nSip on a Caipirinha or a Mojito as you immerse yourself in the sultry sounds of bossa nova and salsa.\n\nWhether you’re a jazz aficionado or simply seeking a taste of the exotic\,\nSonido Sueño promises an unforgettable experience where music and mixology intertwine to create pure summer bliss.\n\nSaúde!\n#SonidoSueñoReturns #BrazilianJazz #LatinJazz #RumSugarLime \n 
URL:https://rumsugarlime.com/event/sonido-sueno-at-rsl-july/
LOCATION:Rum Sugar Lime\, 1039 S Virginia St\, Reno\, NV 89502\, USA\, Reno\, NV\, 89502\, United States
CATEGORIES:Jazz
ATTACH;FMTTYPE=image/png:https://rumsugarlime.com/wp-content/uploads/2024/06/RSL_SonidoSueno_July192024_square.png
END:VEVENT
BEGIN:VEVENT
DTSTART;TZID=America/Los_Angeles:20240725T190000
DTEND;TZID=America/Los_Angeles:20240725T233000
DTSTAMP:20260419T054804
CREATED:20240718T144300Z
LAST-MODIFIED:20240718T144300Z
UID:5243-1721934000-1721950200@rumsugarlime.com
SUMMARY:Reno Hip Hop Night at NautilusRSL
DESCRIPTION:Get ready for an unforgettable evening of beats and rhymes at Reno Hip Hop Night! Join us at Nautilus RSL for a night featuring the electrifying Atom B and the cosmic sounds of the Keeper of the Universe. \n\nDoors Open: 7 PM\nMusic Starts: 8:30 PM\nNo Cover Charge!\n\nEnter through the alley and dive into the heart of Reno’s hip hop scene. Don’t miss out on this epic night of music\, vibes\, and community. See you there!
URL:https://rumsugarlime.com/event/reno-hip-hop-night-at-nautilusrsl/
LOCATION:Nautilus RSL\, 1039 1/2 S. Virginia Street\, Reno\, NV\, 89501\, United States
CATEGORIES:Musicians,Nautilus Reno
ATTACH;FMTTYPE=image/png:https://rumsugarlime.com/wp-content/uploads/2024/07/Nautilus_HipHopNight_Square-01.png
END:VEVENT
BEGIN:VEVENT
DTSTART;TZID=America/Los_Angeles:20240726T180000
DTEND;TZID=America/Los_Angeles:20240726T190000
DTSTAMP:20260419T054804
CREATED:20240710T153142Z
LAST-MODIFIED:20240710T153225Z
UID:5235-1722016800-1722020400@rumsugarlime.com
SUMMARY:Reno Rum Club
DESCRIPTION:Ahoy\, Rum Fans!\n\nJoin us FRIDAY\, July 26TH at 6PM with our sponsors from Breakthru Beverage and featuring Appleton Estate rums~!\nThe monthly gathering of the Reno Rum Club is just around the bend\, and we’re casting off in style at Nautilus Reno\,\n\nChart a course to an unforgettable evening with us\, where the sweet springtime breeze mingles with the intoxicating aroma of the finest rums from around the world.\nLimited seating for 24 adventurers.\n\nRSVP now to secure your spot on this nautical rum journey like none other.\n\nJOIN THE CLUB AT RenoRumClub.com!\n#RenoRumClub #RumAdventures
URL:https://rumsugarlime.com/event/reno-rum-club-3/
LOCATION:NV
CATEGORIES:Special Events
ATTACH;FMTTYPE=image/png:https://rumsugarlime.com/wp-content/uploads/2024/07/Rum_Sugar_Lime___rumsugarlimereno__•_Instagram_photos_and_videos.png
END:VEVENT
BEGIN:VEVENT
DTSTART;TZID=America/Los_Angeles:20240726T193000
DTEND;TZID=America/Los_Angeles:20240726T213000
DTSTAMP:20260419T054804
CREATED:20240722T151132Z
LAST-MODIFIED:20240722T151209Z
UID:5258-1722022200-1722029400@rumsugarlime.com
SUMMARY:Two Man Advantage at NautilusRSL
DESCRIPTION:Live Music Event at Nautilus RSL\n\n\nTwo Man Advantage!\n\n\n Date: Friday\, July 26th\n Time: 7:30 PM\n Venue: Nautilus RSL\n\n\n\nJoin us for an unforgettable evening of live music with Two Man Advantage! This dynamic duo is set to take the stage\, bringing their unique acoustic twist to a wide range of covers spanning rock\, blues\, alternative\, and more. Whatever your musical taste\, Two Man\nAdvantage has something to delight every listener.\n\n\n\nGather your friends\, come early for a good seat\, and get ready to enjoy a night filled with your favorite tunes and fantastic vibes. Whether you’re in the mood to relax or dance the night away\, this is the place to be!\n\n\n\nDon’t miss out on this incredible live performance at Nautilus RSL. See you there!
URL:https://rumsugarlime.com/event/two-man-advantage-at-nautilusrsl/
LOCATION:Nautilus RSL\, 1039 1/2 S. Virginia Street\, Reno\, NV\, 89501\, United States
CATEGORIES:Musicians,Nautilus Reno
ATTACH;FMTTYPE=image/png:https://rumsugarlime.com/wp-content/uploads/2024/07/Nautilus_TwoManAdvantage_Square-01.png
END:VEVENT
END:VCALENDAR