BEGIN:VCALENDAR
VERSION:2.0
PRODID:-//Rum Sugar Lime - ECPv6.15.20//NONSGML v1.0//EN
CALSCALE:GREGORIAN
METHOD:PUBLISH
X-ORIGINAL-URL:https://rumsugarlime.com
X-WR-CALDESC:Events for Rum Sugar Lime
REFRESH-INTERVAL;VALUE=DURATION:PT1H
X-Robots-Tag:noindex
X-PUBLISHED-TTL:PT1H
BEGIN:VTIMEZONE
TZID:America/Los_Angeles
BEGIN:DAYLIGHT
TZOFFSETFROM:-0800
TZOFFSETTO:-0700
TZNAME:PDT
DTSTART:20240310T100000
END:DAYLIGHT
BEGIN:STANDARD
TZOFFSETFROM:-0700
TZOFFSETTO:-0800
TZNAME:PST
DTSTART:20241103T090000
END:STANDARD
BEGIN:DAYLIGHT
TZOFFSETFROM:-0800
TZOFFSETTO:-0700
TZNAME:PDT
DTSTART:20250309T100000
END:DAYLIGHT
BEGIN:STANDARD
TZOFFSETFROM:-0700
TZOFFSETTO:-0800
TZNAME:PST
DTSTART:20251102T090000
END:STANDARD
BEGIN:DAYLIGHT
TZOFFSETFROM:-0800
TZOFFSETTO:-0700
TZNAME:PDT
DTSTART:20260308T100000
END:DAYLIGHT
BEGIN:STANDARD
TZOFFSETFROM:-0700
TZOFFSETTO:-0800
TZNAME:PST
DTSTART:20261101T090000
END:STANDARD
BEGIN:DAYLIGHT
TZOFFSETFROM:-0800
TZOFFSETTO:-0700
TZNAME:PDT
DTSTART:20270314T100000
END:DAYLIGHT
BEGIN:STANDARD
TZOFFSETFROM:-0700
TZOFFSETTO:-0800
TZNAME:PST
DTSTART:20271107T090000
END:STANDARD
END:VTIMEZONE
BEGIN:VEVENT
DTSTART;TZID=America/Los_Angeles:20251218T200000
DTEND;TZID=America/Los_Angeles:20251218T220000
DTSTAMP:20260419T205353
CREATED:20251119T222812Z
LAST-MODIFIED:20251203T011810Z
UID:5839-1766088000-1766095200@rumsugarlime.com
SUMMARY:Holiday Jazz with Reno Jazz Trio @ RSL
DESCRIPTION:Take a little break from the holiday rush and come get cozy with us at RSL. Reno Jazz Trio are bringing the kind of holiday jazz that makes everything feel brighter\, warmer\, and just a little more magical. \nSlip inside\, grab one of the best holiday drinks in town\, and let the music slow the season down. From timeless classics to unexpected twists\, RJT always deliver something special. And with no cover\, it’s the easiest festive decision you’ll make all week. \nHoliday Jazz with Reno Jazz TrioThursday\, December 18 at 8 PMRum Sugar Lime – NO COVER \nGood vibes\, great music\, and festive cocktails are waiting. ✨
URL:https://rumsugarlime.com/event/holiday-jazz-with-reno-jazz-trio-rsl/
LOCATION:NV
CATEGORIES:Holiday,Jazz,Musicians,Special Events
ATTACH;FMTTYPE=image/png:https://rumsugarlime.com/wp-content/uploads/2025/11/RSL_RenoJazzTrio_Dec.28_square.png
END:VEVENT
BEGIN:VEVENT
DTSTART;TZID=America/Los_Angeles:20260213T160000
DTEND;TZID=America/Los_Angeles:20260214T010000
DTSTAMP:20260419T205353
CREATED:20260116T181946Z
LAST-MODIFIED:20260206T203121Z
UID:5874-1770998400-1771030800@rumsugarlime.com
SUMMARY:Galentines Day Party at RSL!
DESCRIPTION:This one’s for the girls who survived dial-up\, frosted lip gloss\, and burned CD mixes.We’re throwing it back to the era of pop queens\, hip-hop hooks\, and R&B slow jams. \n✨ 2000s hits on repeat by DJ Diskoteka✨ Special Galentine’s cocktails✨ Photo-op moments worthy of your MySpace Top 8 \nBring your crew. Bring your confidence.This party is only for funs.
URL:https://rumsugarlime.com/event/galentines-day-party-at-rsl/
LOCATION:Rum Sugar Lime\, 1039 S Virginia St\, Reno\, NV 89502\, USA\, Reno\, NV\, 89502\, United States
CATEGORIES:Holiday,Special Events
ATTACH;FMTTYPE=image/png:https://rumsugarlime.com/wp-content/uploads/2026/01/RSL_2026Galentines-Party_square2.png
END:VEVENT
BEGIN:VEVENT
DTSTART;TZID=America/Los_Angeles:20260214T200000
DTEND;TZID=America/Los_Angeles:20260214T220000
DTSTAMP:20260419T205353
CREATED:20251230T181737Z
LAST-MODIFIED:20260105T212046Z
UID:5863-1771099200-1771106400@rumsugarlime.com
SUMMARY:the Tentet @ Nautilus RSL
DESCRIPTION:Spend Valentine’s night wrapped in the sound of live jazz at Nautilus RSL. \nOn Saturday\, February 14\, the Tentet returns for an intimate evening of Jazz in the Alley\, filling our candlelit space with rich harmonies\, deep grooves\, and the kind of energy that only happens when great musicians and a great room come together. \nThis special ten-piece ensemble delivers bold arrangements and classic jazz spirit\, performed up close in our hidden Midtown alley venue. It’s romantic without being cheesy\, soulful without being sleepy\, and perfect for a date night\, a night out with friends\, or anyone who believes live music is the best way to celebrate. \nCraft cocktails\, a cozy atmosphere\, and world-class local musicians.Doors open early at 7:30pm\, seating is limited to 50\, and this one will fill up! \nAll ticket proceeds go directly to the band.  Support our local musicians! \nTickets and details at nautilusreno.com
URL:https://rumsugarlime.com/event/the-tentet-nautilus-rsl/
LOCATION:NV
CATEGORIES:Jazz,Musicians,Nautilus Reno
ATTACH;FMTTYPE=image/png:https://rumsugarlime.com/wp-content/uploads/2025/12/Nautilus_Tentet_Feb14_square.png
END:VEVENT
BEGIN:VEVENT
DTSTART;TZID=America/Los_Angeles:20260404T190000
DTEND;TZID=America/Los_Angeles:20260404T210000
DTSTAMP:20260419T205353
CREATED:20260217T195603Z
LAST-MODIFIED:20260307T222218Z
UID:5892-1775329200-1775336400@rumsugarlime.com
SUMMARY:the Tentet @ Nautilus RSL
DESCRIPTION:Spend a spring evening wrapped in the sound of live jazz at Nautilus RSL. \nOn Saturday\, April 4\, The Tentet returns for an intimate night of Jazz in the Alley\, filling our candlelit space with rich harmonies\, deep grooves\, and the kind of energy that only happens when great musicians and a great room come together. \nThis special ten-piece ensemble delivers bold arrangements and classic jazz spirit\, performed up close in our hidden Midtown alley venue. It’s romantic without being cheesy\, soulful without being sleepy\, and perfect for a date night\, a night out with friends\, or anyone who believes live music is the best way to celebrate. \nCraft cocktails\, a cozy atmosphere\, and world-class local musicians. Doors open early\, seating is limited\, and this one will fill up. \nDoors Open at 6pm. \nShowtime is 7pm -9pm \nSupport our local musicians! \nAll ticket sales are final.
URL:https://rumsugarlime.com/event/the-tentet-nautilus-rsl-2/
LOCATION:Nautilus RSL\, 1039 1/2 S. Virginia Street\, Reno\, NV\, 89501\, United States
CATEGORIES:Jazz,Musicians,Nautilus Reno
ATTACH;FMTTYPE=image/png:https://rumsugarlime.com/wp-content/uploads/2026/02/Nautilus_Tentet_Apr4_square.png
END:VEVENT
BEGIN:VEVENT
DTSTART;TZID=America/Los_Angeles:20260410T210000
DTEND;TZID=America/Los_Angeles:20260410T230000
DTSTAMP:20260419T205353
CREATED:20260202T155210Z
LAST-MODIFIED:20260202T155210Z
UID:5881-1775854800-1775862000@rumsugarlime.com
SUMMARY:Dúo Dinámico @ RSL
DESCRIPTION:Two musicians. One seriously full sound. \nDúo Dinámico brings together Bruno Damico on drums and vocals and Lucas Arizu on guitar and flute for a night that feels way bigger than a duo has any right to. \nLucas layers live loops in real time\, building bass lines and rhythm on the spot\, while Bruno drives the groove. The result is jazz\, soul\, funk\, Latin\, R&B\, and reggae\, all twisted into fresh\, unexpected arrangements of songs you’ll swear you know. \nIt’s dynamic. It’s dance-adjacent. It’s the kind of set that sneaks up on you and suddenly you’re locked in. \n Friday\, April 10 9PM Rum Sugar Lime️ No cover \nCome early\, grab a cocktail\, stay late.
URL:https://rumsugarlime.com/event/duo-dinamico-rsl/
LOCATION:Rum Sugar Lime\, 1039 S Virginia St\, Reno\, NV 89502\, USA\, Reno\, NV\, 89502\, United States
CATEGORIES:Musicians
ATTACH;FMTTYPE=image/png:https://rumsugarlime.com/wp-content/uploads/2026/02/RSL_DuoDinamico_square.png
END:VEVENT
END:VCALENDAR