BEGIN:VCALENDAR
VERSION:2.0
PRODID:-//Rum Sugar Lime - ECPv6.15.20//NONSGML v1.0//EN
CALSCALE:GREGORIAN
METHOD:PUBLISH
X-WR-CALNAME:Rum Sugar Lime
X-ORIGINAL-URL:https://rumsugarlime.com
X-WR-CALDESC:Events for Rum Sugar Lime
REFRESH-INTERVAL;VALUE=DURATION:PT1H
X-Robots-Tag:noindex
X-PUBLISHED-TTL:PT1H
BEGIN:VTIMEZONE
TZID:America/Los_Angeles
BEGIN:DAYLIGHT
TZOFFSETFROM:-0800
TZOFFSETTO:-0700
TZNAME:PDT
DTSTART:20200308T100000
END:DAYLIGHT
BEGIN:STANDARD
TZOFFSETFROM:-0700
TZOFFSETTO:-0800
TZNAME:PST
DTSTART:20201101T090000
END:STANDARD
BEGIN:DAYLIGHT
TZOFFSETFROM:-0800
TZOFFSETTO:-0700
TZNAME:PDT
DTSTART:20210314T100000
END:DAYLIGHT
BEGIN:STANDARD
TZOFFSETFROM:-0700
TZOFFSETTO:-0800
TZNAME:PST
DTSTART:20211107T090000
END:STANDARD
BEGIN:DAYLIGHT
TZOFFSETFROM:-0800
TZOFFSETTO:-0700
TZNAME:PDT
DTSTART:20220313T100000
END:DAYLIGHT
BEGIN:STANDARD
TZOFFSETFROM:-0700
TZOFFSETTO:-0800
TZNAME:PST
DTSTART:20221106T090000
END:STANDARD
BEGIN:DAYLIGHT
TZOFFSETFROM:-0800
TZOFFSETTO:-0700
TZNAME:PDT
DTSTART:20230312T100000
END:DAYLIGHT
BEGIN:STANDARD
TZOFFSETFROM:-0700
TZOFFSETTO:-0800
TZNAME:PST
DTSTART:20231105T090000
END:STANDARD
END:VTIMEZONE
BEGIN:VTIMEZONE
TZID:UTC
BEGIN:STANDARD
TZOFFSETFROM:+0000
TZOFFSETTO:+0000
TZNAME:UTC
DTSTART:20210101T000000
END:STANDARD
END:VTIMEZONE
BEGIN:VEVENT
DTSTART;TZID=America/Los_Angeles:20220505T200000
DTEND;TZID=America/Los_Angeles:20220505T220000
DTSTAMP:20260419T163940
CREATED:20220413T164653Z
LAST-MODIFIED:20220413T164906Z
UID:4283-1651780800-1651788000@rumsugarlime.com
SUMMARY:Jazz Mexicano with Chance Utter Group at RSL
DESCRIPTION:Looking for a perfect way to celebrate Cinco de Mayo? \nLook no further – we’ve got tequilas and latin rhythms of Reno’s hottest jazz band. \nWhile we have the largest selection of rum in Northern Nevada\, we also have an amazing collection of tequilas to savor and sample. \nSo make plans now\, and get there early for a seat.   No cover\, always a great show. \nVamanos! \n \n 
URL:https://rumsugarlime.com/event/jazz-mexicano-with-chance-utter-group-at-rsl/
LOCATION:Rum Sugar Lime\, 1039 S Virginia St\, Reno\, NV 89502\, USA\, Reno\, NV\, 89502\, United States
CATEGORIES:Jazz,Musicians
ATTACH;FMTTYPE=image/png:https://rumsugarlime.com/wp-content/uploads/2022/04/RSL_ChanceUtterGroup_May5-01.png
END:VEVENT
BEGIN:VEVENT
DTSTART;TZID=UTC:20220421T200000
DTEND;TZID=UTC:20220421T220000
DTSTAMP:20260419T163940
CREATED:20220320T154755Z
LAST-MODIFIED:20220320T154755Z
UID:4273-1650571200-1650578400@rumsugarlime.com
SUMMARY:Jazz Brasilerio with Chance Utter Group
DESCRIPTION:They’re back – and you won’t want to miss the Chance Utter Group’s popular blend of samba and bossa nova beats. \nAdd the silky smooth voice of Darcy Kathleen\, and you’ve got a recipe for a perfect night in MidTown. \nJoin us as they fill our space with the best sounds around – and enjoy them with Reno’s freshest craft cocktails. \nNo cover for the show that starts at 8pm.  Get there early to grab a seat! \nSee you there!
URL:https://rumsugarlime.com/event/jazz-brasilerio-with-chance-utter-group-2/
LOCATION:Rum Sugar Lime\, 1039 S Virginia St\, Reno\, NV 89502\, USA\, Reno\, NV\, 89502\, United States
CATEGORIES:Jazz,Musicians
ATTACH;FMTTYPE=image/png:https://rumsugarlime.com/wp-content/uploads/2022/03/RSL_ChanceUtterGroup_April-21-01.png
END:VEVENT
BEGIN:VEVENT
DTSTART;TZID=UTC:20220409T170000
DTEND;TZID=UTC:20220410T000000
DTSTAMP:20260419T163940
CREATED:20220301T195253Z
LAST-MODIFIED:20220321T234807Z
UID:4247-1649523600-1649548800@rumsugarlime.com
SUMMARY:Tiki 4 Birthday Celebration
DESCRIPTION:It’s hard to believe it’s been FOUR years! But it has\, and we’re going to celebrate it right – with you – our friends and guests.\n\nJoin us for our fourth birthday celebration!\n\nKwok’s Bistro (5-8pm)\nMusic by DJ Mark Sexton!\nSpecial menu of tiki favorites!\n\n$10 cover per person. Door charge at 8pm.\n\nIt’s time to celebrate!
URL:https://rumsugarlime.com/event/tiki-4-rum-sugar-lime/
LOCATION:Rum Sugar Lime\, 1039 S Virginia St\, Reno\, NV 89502\, USA\, Reno\, NV\, 89502\, United States
CATEGORIES:DJs,Special Events
ATTACH;FMTTYPE=image/png:https://rumsugarlime.com/wp-content/uploads/2022/03/RSL_Tiki4_rev-01.png
END:VEVENT
BEGIN:VEVENT
DTSTART;TZID=UTC:20220325T180000
DTEND;TZID=UTC:20220325T200000
DTSTAMP:20260419T163941
CREATED:20220226T190305Z
LAST-MODIFIED:20220226T190305Z
UID:4243-1648231200-1648238400@rumsugarlime.com
SUMMARY:SAF Sip And Screen
DESCRIPTION:You’re invited to join Sierra Arts Foundation for its first Sip and Screen\, a private cocktail reception and screening for Paramount Pictures’ The Lost City featuring Sandra Bullock\, Channing Tatum and Brad Pitt. Navigate downtown’s concrete jungle* and join explorers and art patrons alike at the nonprofit’s Riverside Gallery. As you discover treasures from exhibiting artists on the gallery walls\, enjoy jungle-themed cocktails\, complete with “The Lost City\,” a libation created by our friends at Rum Sugar Lime\, and appetizers from our friends at Wild River Grille. From there the group will trek to Century Riverside to to watch the 8 p.m. showing of The Lost City in a private theater. \nSo join us as Sierra Arts Foundation takes movie night up an artistic notch. Suit up in glamorous garb fitting for romance novelists or don adventure garb perfect for uncovering clues and chopping paths through dense foliage. Those looking to keep the party going after the movie can head to Rum Sugar Lime for drink specials available to Sip and Screen attendees. \nPlease note that Sip and Screen events have limited capacity. Buy your tickets early to guarantee your spot. \n*Sierra Arts Foundation guarantees no crocodiles or alligators. \nPurchase Tickets Here:  https://sierraarts.org/product/saf-sip-and-screen-the-lost-city/
URL:https://rumsugarlime.com/event/saf-sip-and-screen/
LOCATION:NV
CATEGORIES:Special Events
ATTACH;FMTTYPE=image/png:https://rumsugarlime.com/wp-content/uploads/2022/02/Lost-City-Flyer-Banner.png
END:VEVENT
BEGIN:VEVENT
DTSTART;TZID=UTC:20220319T213000
DTEND;TZID=UTC:20220319T233000
DTSTAMP:20260419T163941
CREATED:20220218T215128Z
LAST-MODIFIED:20220222T225350Z
UID:4237-1647725400-1647732600@rumsugarlime.com
SUMMARY:DJ Mark Sexton Returns To Discothéque
DESCRIPTION:DJ Mark Sexton returns to his uber-popular vinyl playlist of tunes that will make your feet go wild. \nDon’t miss this installment of another awesome night of music and the best tropical cocktails in town. \nNo reservations – so get there early to get a seat. \nAnd of course\, no cover – but always the best time in Midtown. \nSee you there!
URL:https://rumsugarlime.com/event/dj-mark-sexton-returns-to-discotheque/
LOCATION:NV
CATEGORIES:DJs
ATTACH;FMTTYPE=image/png:https://rumsugarlime.com/wp-content/uploads/2022/02/RSL_MarkSexton_March132022_512x512b-01.png
END:VEVENT
BEGIN:VEVENT
DTSTART;TZID=America/Los_Angeles:20220310T200000
DTEND;TZID=America/Los_Angeles:20220310T230000
DTSTAMP:20260419T163941
CREATED:20220209T161259Z
LAST-MODIFIED:20220213T002426Z
UID:4224-1646942400-1646953200@rumsugarlime.com
SUMMARY:Jazz Brasilerio with Chance Utter Group
DESCRIPTION:Combine the exotic beats of Samba and Bossa Nova with the silky-smooth voice of Darcy Kathleen\, and you’ve got a recipe for something truly special and unique. \nJoin us as we continue to welcome the Chance Utter Group to our tropical getaway.  Enjoy their popular sound with one of our deliciously fresh cocktails – and you’ll be off to a weekend of relaxing fun. \nMake plans now.  There’s no cover charge\, and we guarantee you’ll love the show. \nCheers!
URL:https://rumsugarlime.com/event/jazz-brasilerio-with-chance-utter-group/
LOCATION:Rum Sugar Lime\, 1039 S Virginia St\, Reno\, NV 89502\, USA\, Reno\, NV\, 89502\, United States
CATEGORIES:Jazz,Musicians
ATTACH;FMTTYPE=image/png:https://rumsugarlime.com/wp-content/uploads/2022/02/RSL_ChanceUtterGroup_March10-01.png
END:VEVENT
BEGIN:VEVENT
DTSTART;TZID=America/Los_Angeles:20220212T210000
DTEND;TZID=America/Los_Angeles:20220212T233000
DTSTAMP:20260419T163941
CREATED:20220105T201508Z
LAST-MODIFIED:20220105T201626Z
UID:4096-1644699600-1644708600@rumsugarlime.com
SUMMARY:No Scrubs - A Night of 90's R&B with DJ Mark Sexton
DESCRIPTION:Love is in the air. Valentines Day draws near. \nBut If you don’t have a car and you’re walking\, (Oh yeah son\, I’m talking to you) \nAnd If you live at home with your momma\, (Oh yes son\, I’m talking to you) \nTonight is my night\, not yours. No scrub\, no\, no\, no\, no. \n~~~~~~~~~~~~~~~~~~~~~~~~~~~~~~~~~~~~~~~ \nJoin us for a night of independence\, dance\, cocktails\, and our course\, love. \nSaturday\, February 12th  \nDJ Mark Sexton  \n10pm \nNo cover.
URL:https://rumsugarlime.com/event/no-scrubs-a-night-of-90s-rb-with-dj-mark-sexton/
LOCATION:NV
CATEGORIES:DJs
ATTACH;FMTTYPE=image/png:https://rumsugarlime.com/wp-content/uploads/2022/01/Mark-Sexton_Feb12.png
END:VEVENT
BEGIN:VEVENT
DTSTART;TZID=America/Los_Angeles:20220206T170000
DTEND;TZID=America/Los_Angeles:20220227T210000
DTSTAMP:20260419T163941
CREATED:20220126T235429Z
LAST-MODIFIED:20220127T001416Z
UID:4138-1644166800-1645995600@rumsugarlime.com
SUMMARY:Love MidTown Pedicab Tour
DESCRIPTION:Come show a little love in MidTown! \nTake someone you love on a fun-filled tour through MidTown Reno in one of Reno’s best modes of transportation with Pineapple Pedicabs. \nThis special tour will run on Thursdays and Sundays only in the month of February – so don’t hesitate before it’s too late. \nThree stops will take you approximately 2 and a half hours – jam packed with delicious bites from Food + Drink\, fun and cocktails at Press Start Reno\, and of course a taste of Reno’s best tropical cocktails with us at RSL! \nBOOK ONLINE\, but hurry…these seats will go quickly.\nCheers!
URL:https://rumsugarlime.com/event/love-midtown-pedicab-tour/
LOCATION:Rum Sugar Lime\, 1039 S Virginia St\, Reno\, NV 89502\, USA\, Reno\, NV\, 89502\, United States
CATEGORIES:Special Events
ATTACH;FMTTYPE=image/png:https://rumsugarlime.com/wp-content/uploads/2022/01/Love-MidTown-Tour-Instagram-post.png
END:VEVENT
BEGIN:VEVENT
DTSTART;TZID=America/Los_Angeles:20220203T200000
DTEND;TZID=America/Los_Angeles:20220203T230000
DTSTAMP:20260419T163941
CREATED:20220125T192336Z
LAST-MODIFIED:20220125T192336Z
UID:4134-1643918400-1643929200@rumsugarlime.com
SUMMARY:Chance Utter Group ~ Jazz Brasilerio
DESCRIPTION:Some of our favorite people create the best sounds in Reno – and this is your chance to hear them. \nBossa nova is a Brazilian genre of music that literally translates to “new style” or “new trend.” It emerged in the 1950s and ’60s combining elements of samba—a popular music genre within Brazil—with American jazz traditions. \nJoin us for a night of cool drinks and some of the hottest jazz around. \nIt’s a perfect way to get your weekend started just a little early. \nNo cover.  Always fun.  See you there!
URL:https://rumsugarlime.com/event/chance-utter-group-jazz-brasilerio/
LOCATION:Rum Sugar Lime\, 1039 S Virginia St\, Reno\, NV 89502\, USA\, Reno\, NV\, 89502\, United States
CATEGORIES:Jazz,Musicians
ATTACH;FMTTYPE=image/png:https://rumsugarlime.com/wp-content/uploads/2022/01/RSL_ChanceUtterGroup_Feb3-01.png
END:VEVENT
BEGIN:VEVENT
DTSTART;TZID=America/Los_Angeles:20220120T200000
DTEND;TZID=America/Los_Angeles:20220120T223000
DTSTAMP:20260419T163941
CREATED:20220106T211200Z
LAST-MODIFIED:20220106T211302Z
UID:4099-1642708800-1642717800@rumsugarlime.com
SUMMARY:Third Thursday Live Jazz at RSL
DESCRIPTION:It’s a new year\, and our very popular jazz musicians are back for another night of cool drinks and hot jazz. \nThis supremely talented foursome has played a few times before to an adoring crowd. \nGet there early to get your seat! \nCheers.
URL:https://rumsugarlime.com/event/third-thursday-live-jazz-at-rsl/
LOCATION:NV
CATEGORIES:Jazz,Musicians
ATTACH;FMTTYPE=image/png:https://rumsugarlime.com/wp-content/uploads/2022/01/RSL_ThirdThursday_January-20-01.png
END:VEVENT
BEGIN:VEVENT
DTSTART;TZID=America/Los_Angeles:20220108T200000
DTEND;TZID=America/Los_Angeles:20220108T230000
DTSTAMP:20260419T163941
CREATED:20211221T174600Z
LAST-MODIFIED:20211227T165710Z
UID:4090-1641672000-1641682800@rumsugarlime.com
SUMMARY:Return To Copacabana with DJ Mark Sexton
DESCRIPTION:Beat the winter doldrums with a trip to a warmer climate with our favorite DJ – Mark Sexton. \nCool drinks and warm beats make for the perfect Saturday night out in MidTown. \nWhat could be better? \nGet this one on your calendar.  We guarantee it’ll chase away the winter blues. \nNo cover!
URL:https://rumsugarlime.com/event/return-to-copacabana-with-dj-mark-sexton/
LOCATION:NV
CATEGORIES:DJs
ATTACH;FMTTYPE=image/png:https://rumsugarlime.com/wp-content/uploads/2021/12/RSL_MarkSexton_January7-01.png
END:VEVENT
BEGIN:VEVENT
DTSTART;TZID=America/Los_Angeles:20211231T220000
DTEND;TZID=America/Los_Angeles:20220101T010000
DTSTAMP:20260419T163941
CREATED:20211202T211530Z
LAST-MODIFIED:20211215T231745Z
UID:4050-1640988000-1640998800@rumsugarlime.com
SUMMARY:New Year's Eve with FOX & BUCK @ RSL
DESCRIPTION:We’re thrilled to announce Lucid Event Productions is bringing the wildly talented duo – FOX & BUCK – to RSL on New Year’s Eve. \nIt’s just $15 at the door per person – with Fox & Buck starting at 10pm. \nDJ lovebirds @rebel_yeti & @lukawarm_ will be mixing a sweet musical cocktail of vibey fruits from across the globe. \nTHE perfect way to ring in 2022! \nOf course\, entry includes a Midnight Toast as we all celebrate the start of a new year. \nDon’t miss this one – it’s going to be amazing! \n 
URL:https://rumsugarlime.com/event/new-years-eve-with-fox-buck-rsl/
LOCATION:NV
ATTACH;FMTTYPE=image/png:https://rumsugarlime.com/wp-content/uploads/2021/12/RSL_FoxBuck_NYE2022-01.png
END:VEVENT
BEGIN:VEVENT
DTSTART;TZID=America/Los_Angeles:20211223T200000
DTEND;TZID=America/Los_Angeles:20211223T230000
DTSTAMP:20260419T163941
CREATED:20211129T172236Z
LAST-MODIFIED:20211129T172236Z
UID:4041-1640289600-1640300400@rumsugarlime.com
SUMMARY:Chance Utter Group
DESCRIPTION:We’re thrilled to have the very popular Chance Utter Group join us for a very special holiday jazz show.  If you haven’t heard them yet\, you’ll be delighted by their smooth and soulful sound. \nCome enjoy a beverage (maybe a hot buttered rum?) of your choice\, and get into the holiday spirit with our team of talented bartenders. \nIt’s a date you won’t want to miss.
URL:https://rumsugarlime.com/event/chance-utter-group/
LOCATION:NV
CATEGORIES:Jazz,Musicians
ATTACH;FMTTYPE=image/png:https://rumsugarlime.com/wp-content/uploads/2021/11/RSL_ChanceUtter_122321-01.png
END:VEVENT
BEGIN:VEVENT
DTSTART;TZID=America/Los_Angeles:20211216T200000
DTEND;TZID=America/Los_Angeles:20211216T230000
DTSTAMP:20260419T163941
CREATED:20211202T211007Z
LAST-MODIFIED:20211202T211007Z
UID:4047-1639684800-1639695600@rumsugarlime.com
SUMMARY:Third Thursday with Zack Teran & Friends
DESCRIPTION:It’s the holiday return of a sensational group of Reno jazz artists. \nPaired with one of our fresh cocktails\, and you’re in for a cool night of great music and fun. \nDon’t miss this one… it’s going to be great! \nReservations not required…but get there early – seats go quickly each time they play. \nCheers and Happy Holidays!
URL:https://rumsugarlime.com/event/third-thursday-with-zack-teran-friends-2/
LOCATION:NV
CATEGORIES:Holiday,Jazz,Musicians
ATTACH;FMTTYPE=image/png:https://rumsugarlime.com/wp-content/uploads/2021/12/262924092_1740010362870041_6065188436448899020_n.png
END:VEVENT
BEGIN:VEVENT
DTSTART;TZID=America/Los_Angeles:20211209T200000
DTEND;TZID=America/Los_Angeles:20211209T230000
DTSTAMP:20260419T163941
CREATED:20211120T090011Z
LAST-MODIFIED:20211120T212724Z
UID:3999-1639080000-1639090800@rumsugarlime.com
SUMMARY:Eric Henry Andersen
DESCRIPTION:Reno’s favorite crooner and song writer returns to RSL for a night of holiday cheer and music! \nCome enjoy some tasty drinks and get into the spirit with Eric and our crew. \nIt’s a perfect opportunity to unwind\, relax and share some great tunes. \nHope you can make it! \nCheers.
URL:https://rumsugarlime.com/event/eric-henry-andersen/
LOCATION:NV
CATEGORIES:Musicians
ATTACH;FMTTYPE=image/png:https://rumsugarlime.com/wp-content/uploads/2021/11/EricAndersenDec9.png
ORGANIZER;CN="eric henry andersen":MAILTO:eric@erichenryandersen.com
END:VEVENT
BEGIN:VEVENT
DTSTART;VALUE=DATE:20211125
DTEND;VALUE=DATE:20211126
DTSTAMP:20260419T163941
CREATED:20211120T213057Z
LAST-MODIFIED:20211120T213318Z
UID:4003-1637798400-1637884799@rumsugarlime.com
SUMMARY:RSL CLOSED Thanksgiving Day
DESCRIPTION:Happy Thanksgiving! \nWe’ll be taking a well-deserved break with family and friends to enjoy the holiday time together. \nWe hope you’ll do something similarly. ;) \nCheers!
URL:https://rumsugarlime.com/event/rsl-closed-thanksgiving-day-nov-25th/
LOCATION:NV
CATEGORIES:Holiday
ATTACH;FMTTYPE=image/png:https://rumsugarlime.com/wp-content/uploads/2021/11/RSL_Thanksgiving2021-01.png
END:VEVENT
BEGIN:VEVENT
DTSTART;TZID=America/Los_Angeles:20211124T200000
DTEND;TZID=America/Los_Angeles:20211124T230000
DTSTAMP:20260419T163941
CREATED:20211119T150838Z
LAST-MODIFIED:20211120T212600Z
UID:3952-1637784000-1637794800@rumsugarlime.com
SUMMARY:DJ The Terrible
DESCRIPTION:We have our dear friend and talented musician @ivantogoof throwing down the ones and twos for a pre-Thanksgiving boogy. Bring your friends and family to work off some energy before the big feast! 🕺🏻
URL:https://rumsugarlime.com/event/dj-the-terrible-november-24th/
LOCATION:NV
ATTACH;FMTTYPE=image/png:https://rumsugarlime.com/wp-content/uploads/2021/11/RSL_DJTheTerrible_Nov24-01-1.png
END:VEVENT
END:VCALENDAR