BEGIN:VCALENDAR
VERSION:2.0
PRODID:-//Rum Sugar Lime - ECPv6.15.20//NONSGML v1.0//EN
CALSCALE:GREGORIAN
METHOD:PUBLISH
X-WR-CALNAME:Rum Sugar Lime
X-ORIGINAL-URL:https://rumsugarlime.com
X-WR-CALDESC:Events for Rum Sugar Lime
REFRESH-INTERVAL;VALUE=DURATION:PT1H
X-Robots-Tag:noindex
X-PUBLISHED-TTL:PT1H
BEGIN:VTIMEZONE
TZID:America/Los_Angeles
BEGIN:DAYLIGHT
TZOFFSETFROM:-0800
TZOFFSETTO:-0700
TZNAME:PDT
DTSTART:20240310T100000
END:DAYLIGHT
BEGIN:STANDARD
TZOFFSETFROM:-0700
TZOFFSETTO:-0800
TZNAME:PST
DTSTART:20241103T090000
END:STANDARD
BEGIN:DAYLIGHT
TZOFFSETFROM:-0800
TZOFFSETTO:-0700
TZNAME:PDT
DTSTART:20250309T100000
END:DAYLIGHT
BEGIN:STANDARD
TZOFFSETFROM:-0700
TZOFFSETTO:-0800
TZNAME:PST
DTSTART:20251102T090000
END:STANDARD
BEGIN:DAYLIGHT
TZOFFSETFROM:-0800
TZOFFSETTO:-0700
TZNAME:PDT
DTSTART:20260308T100000
END:DAYLIGHT
BEGIN:STANDARD
TZOFFSETFROM:-0700
TZOFFSETTO:-0800
TZNAME:PST
DTSTART:20261101T090000
END:STANDARD
END:VTIMEZONE
BEGIN:VEVENT
DTSTART;TZID=America/Los_Angeles:20251129T190000
DTEND;TZID=America/Los_Angeles:20251129T213000
DTSTAMP:20260420T062520
CREATED:20250918T192502Z
LAST-MODIFIED:20251103T192538Z
UID:5696-1764442800-1764451800@rumsugarlime.com
SUMMARY:Jazz In The Alley
DESCRIPTION:✨ Jazz in the Alley ✨Slide into the groove this Saturday\, 11/29\, as Nautilus transforms into Reno’s coolest back-alley jazz club featuring the Reno Jazz Authority. The horns will be hot\, the rhythms tight\, and the cocktails flowing. \nFeaturing a stacked lineup of Reno’s finest players: saxes\, trumpets\, trombone\, keys\, guitar\, bass\, and drums – this night is all about big sound in an intimate space. \n️ $20 gets you in\, door proceed goes  to the band. Tickets here: https://square.link/u/6jGnr7AWDoors open at 7PM. Come early\, sip something smooth\, and let the alley swing. \nNautilus at Rum Sugar Lime1039 ½ S. Virginia Street | Reno\, NV
URL:https://rumsugarlime.com/event/jazz-in-the-alley/
LOCATION:Nautilus RSL\, 1039 1/2 S. Virginia Street\, Reno\, NV\, 89501\, United States
ATTACH;FMTTYPE=image/png:https://rumsugarlime.com/wp-content/uploads/2025/09/Nautilus_JazzInTheAlley_Nov29_square.png
END:VEVENT
END:VCALENDAR