BEGIN:VCALENDAR
VERSION:2.0
PRODID:-//Rum Sugar Lime - ECPv6.15.20//NONSGML v1.0//EN
CALSCALE:GREGORIAN
METHOD:PUBLISH
X-ORIGINAL-URL:https://rumsugarlime.com
X-WR-CALDESC:Events for Rum Sugar Lime
REFRESH-INTERVAL;VALUE=DURATION:PT1H
X-Robots-Tag:noindex
X-PUBLISHED-TTL:PT1H
BEGIN:VTIMEZONE
TZID:America/Los_Angeles
BEGIN:DAYLIGHT
TZOFFSETFROM:-0800
TZOFFSETTO:-0700
TZNAME:PDT
DTSTART:20240310T100000
END:DAYLIGHT
BEGIN:STANDARD
TZOFFSETFROM:-0700
TZOFFSETTO:-0800
TZNAME:PST
DTSTART:20241103T090000
END:STANDARD
BEGIN:DAYLIGHT
TZOFFSETFROM:-0800
TZOFFSETTO:-0700
TZNAME:PDT
DTSTART:20250309T100000
END:DAYLIGHT
BEGIN:STANDARD
TZOFFSETFROM:-0700
TZOFFSETTO:-0800
TZNAME:PST
DTSTART:20251102T090000
END:STANDARD
BEGIN:DAYLIGHT
TZOFFSETFROM:-0800
TZOFFSETTO:-0700
TZNAME:PDT
DTSTART:20260308T100000
END:DAYLIGHT
BEGIN:STANDARD
TZOFFSETFROM:-0700
TZOFFSETTO:-0800
TZNAME:PST
DTSTART:20261101T090000
END:STANDARD
END:VTIMEZONE
BEGIN:VEVENT
DTSTART;VALUE=DATE:20250922
DTEND;VALUE=DATE:20250929
DTSTAMP:20260420T033353
CREATED:20250815T155633Z
LAST-MODIFIED:20250815T155633Z
UID:5674-1758499200-1759103999@rumsugarlime.com
SUMMARY:Negroni Week at RSL!
DESCRIPTION:It’s Negroni Week at RSL! All week long we’re mixing up not only the classic gin–vermouth–Campari beauty\, but also special variations you won’t find anywhere else. Each one is crafted with the same care you expect from RSL\, and every sip helps support a great cause. Drink good\, do good\, and maybe discover your new favorite Negroni!
URL:https://rumsugarlime.com/event/negroni-week-at-rsl/
LOCATION:NV
CATEGORIES:Special Events
ATTACH;FMTTYPE=image/png:https://rumsugarlime.com/wp-content/uploads/2025/08/RSL_NegroniWeek2025_square.png
END:VEVENT
BEGIN:VEVENT
DTSTART;TZID=America/Los_Angeles:20250926T200000
DTEND;TZID=America/Los_Angeles:20250926T230000
DTSTAMP:20260420T033353
CREATED:20250820T230019Z
LAST-MODIFIED:20250820T230019Z
UID:5679-1758916800-1758927600@rumsugarlime.com
SUMMARY:A Night of Latin Magic
DESCRIPTION:Get ready\, Reno — Grupo Sonido Sueño is bringing their unstoppable energy to RSL on Friday\, September 26th. Expect a night filled with salsa\, cumbia\, and tropical grooves that will turn MidTown into a dance party. \nIf you’ve seen them before\, you already know the power of their music. If not\, this is your chance to experience a band that knows how to connect with a crowd and keep the energy high all night long. \nDoors open at 8 PM\, the cocktails will be flowing\, and the rhythms won’t let you stop moving. We’ll see you on the dance floor! \n 
URL:https://rumsugarlime.com/event/a-night-of-latin-magic/
LOCATION:Rum Sugar Lime\, 1039 S Virginia St\, Reno\, NV 89502\, USA\, Reno\, NV\, 89502\, United States
CATEGORIES:Musicians
ATTACH;FMTTYPE=image/png:https://rumsugarlime.com/wp-content/uploads/2025/08/RSL_SonidoSueno_Sept.26_square.png
END:VEVENT
END:VCALENDAR