BEGIN:VCALENDAR
VERSION:2.0
PRODID:-//Rum Sugar Lime - ECPv6.15.20//NONSGML v1.0//EN
CALSCALE:GREGORIAN
METHOD:PUBLISH
X-ORIGINAL-URL:https://rumsugarlime.com
X-WR-CALDESC:Events for Rum Sugar Lime
REFRESH-INTERVAL;VALUE=DURATION:PT1H
X-Robots-Tag:noindex
X-PUBLISHED-TTL:PT1H
BEGIN:VTIMEZONE
TZID:America/Los_Angeles
BEGIN:DAYLIGHT
TZOFFSETFROM:-0800
TZOFFSETTO:-0700
TZNAME:PDT
DTSTART:20240310T100000
END:DAYLIGHT
BEGIN:STANDARD
TZOFFSETFROM:-0700
TZOFFSETTO:-0800
TZNAME:PST
DTSTART:20241103T090000
END:STANDARD
BEGIN:DAYLIGHT
TZOFFSETFROM:-0800
TZOFFSETTO:-0700
TZNAME:PDT
DTSTART:20250309T100000
END:DAYLIGHT
BEGIN:STANDARD
TZOFFSETFROM:-0700
TZOFFSETTO:-0800
TZNAME:PST
DTSTART:20251102T090000
END:STANDARD
BEGIN:DAYLIGHT
TZOFFSETFROM:-0800
TZOFFSETTO:-0700
TZNAME:PDT
DTSTART:20260308T100000
END:DAYLIGHT
BEGIN:STANDARD
TZOFFSETFROM:-0700
TZOFFSETTO:-0800
TZNAME:PST
DTSTART:20261101T090000
END:STANDARD
END:VTIMEZONE
BEGIN:VEVENT
DTSTART;TZID=America/Los_Angeles:20250724T150000
DTEND;TZID=America/Los_Angeles:20250724T190000
DTSTAMP:20260420T010102
CREATED:20250620T210657Z
LAST-MODIFIED:20250620T210740Z
UID:5654-1753369200-1753383600@rumsugarlime.com
SUMMARY:Taste the Rainforest: Copalli Rum at RSL
DESCRIPTION:Thursday\, July 24 | 3–7 PM\nRum Sugar Lime – MidTown Reno \nJoin us for a rare and remarkable rum tasting featuring Copalli Rum\, a handcrafted\, organic spirit born in the heart of the Belizean rainforest. Made with pure canopy water\, sustainably harvested sugarcane\, and wild yeast—this is rum as nature intended. \n3–4 PM – Industry Presentation\nA deeper dive into Copalli’s eco-conscious process and bold flavor profile. Perfect for bar and hospitality pros. \n4–7 PM – Public Happy Hour\nSip your way through special Copalli cocktails and explore the vibrant taste of the tropics. \nThis is more than a tasting—it’s a journey from MidTown to the jungle canopy.\nNo cover. No shortcuts. All flavor. \nDon’t miss it!
URL:https://rumsugarlime.com/event/taste-the-rainforest-copalli-rum-at-rsl/
LOCATION:NV
CATEGORIES:Special Events
ATTACH;FMTTYPE=image/png:https://rumsugarlime.com/wp-content/uploads/2025/06/RSL_CopalliRumTasting_Square.png
END:VEVENT
END:VCALENDAR