BEGIN:VCALENDAR
VERSION:2.0
PRODID:-//Rum Sugar Lime - ECPv6.15.20//NONSGML v1.0//EN
CALSCALE:GREGORIAN
METHOD:PUBLISH
X-ORIGINAL-URL:https://rumsugarlime.com
X-WR-CALDESC:Events for Rum Sugar Lime
REFRESH-INTERVAL;VALUE=DURATION:PT1H
X-Robots-Tag:noindex
X-PUBLISHED-TTL:PT1H
BEGIN:VTIMEZONE
TZID:America/Los_Angeles
BEGIN:DAYLIGHT
TZOFFSETFROM:-0800
TZOFFSETTO:-0700
TZNAME:PDT
DTSTART:20240310T100000
END:DAYLIGHT
BEGIN:STANDARD
TZOFFSETFROM:-0700
TZOFFSETTO:-0800
TZNAME:PST
DTSTART:20241103T090000
END:STANDARD
BEGIN:DAYLIGHT
TZOFFSETFROM:-0800
TZOFFSETTO:-0700
TZNAME:PDT
DTSTART:20250309T100000
END:DAYLIGHT
BEGIN:STANDARD
TZOFFSETFROM:-0700
TZOFFSETTO:-0800
TZNAME:PST
DTSTART:20251102T090000
END:STANDARD
BEGIN:DAYLIGHT
TZOFFSETFROM:-0800
TZOFFSETTO:-0700
TZNAME:PDT
DTSTART:20260308T100000
END:DAYLIGHT
BEGIN:STANDARD
TZOFFSETFROM:-0700
TZOFFSETTO:-0800
TZNAME:PST
DTSTART:20261101T090000
END:STANDARD
END:VTIMEZONE
BEGIN:VEVENT
DTSTART;TZID=America/Los_Angeles:20250412T160000
DTEND;TZID=America/Los_Angeles:20250412T233000
DTSTAMP:20260419T204759
CREATED:20250306T232512Z
LAST-MODIFIED:20250306T232512Z
UID:5591-1744473600-1744500600@rumsugarlime.com
SUMMARY:Tiki 7 with DJ Mark Sexton
DESCRIPTION:Tiki 7 – RSL’s 7th Anniversary Luau!  \nGet ready to set sail for a tropical paradise as we celebrate seven incredible years of Rum Sugar Lime! \nOn Saturday\, April 12th\, we’re throwing a tiki-style anniversary bash featuring an exclusive island-inspired cocktail menu\, crafted just for the occasion.  \nSetting the rhythm for the night is none other than DJ Mark Sexton\, bringing the perfect sun-soaked grooves to keep the party flowing. \nAnd because no island celebration is complete without a few surprises\, we’ve got plenty of hidden treasures in store! ✨ \nNo cover\, just tropical cocktails\, island vibes\, and endless good times. \nSee you at RSL—your tiki escape awaits!
URL:https://rumsugarlime.com/event/tiki-7-with-dj-mark-sexton/
LOCATION:Rum Sugar Lime\, 1039 S Virginia St\, Reno\, NV 89502\, USA\, Reno\, NV\, 89502\, United States
CATEGORIES:DJs,Special Events
ATTACH;FMTTYPE=image/png:https://rumsugarlime.com/wp-content/uploads/2025/03/RSL_Tiki-7-1.png
END:VEVENT
END:VCALENDAR