BEGIN:VCALENDAR
VERSION:2.0
PRODID:-//Rum Sugar Lime - ECPv6.15.20//NONSGML v1.0//EN
CALSCALE:GREGORIAN
METHOD:PUBLISH
X-ORIGINAL-URL:https://rumsugarlime.com
X-WR-CALDESC:Events for Rum Sugar Lime
REFRESH-INTERVAL;VALUE=DURATION:PT1H
X-Robots-Tag:noindex
X-PUBLISHED-TTL:PT1H
BEGIN:VTIMEZONE
TZID:America/Los_Angeles
BEGIN:DAYLIGHT
TZOFFSETFROM:-0800
TZOFFSETTO:-0700
TZNAME:PDT
DTSTART:20240310T100000
END:DAYLIGHT
BEGIN:STANDARD
TZOFFSETFROM:-0700
TZOFFSETTO:-0800
TZNAME:PST
DTSTART:20241103T090000
END:STANDARD
BEGIN:DAYLIGHT
TZOFFSETFROM:-0800
TZOFFSETTO:-0700
TZNAME:PDT
DTSTART:20250309T100000
END:DAYLIGHT
BEGIN:STANDARD
TZOFFSETFROM:-0700
TZOFFSETTO:-0800
TZNAME:PST
DTSTART:20251102T090000
END:STANDARD
BEGIN:DAYLIGHT
TZOFFSETFROM:-0800
TZOFFSETTO:-0700
TZNAME:PDT
DTSTART:20260308T100000
END:DAYLIGHT
BEGIN:STANDARD
TZOFFSETFROM:-0700
TZOFFSETTO:-0800
TZNAME:PST
DTSTART:20261101T090000
END:STANDARD
END:VTIMEZONE
BEGIN:VEVENT
DTSTART;TZID=America/Los_Angeles:20250327T150000
DTEND;TZID=America/Los_Angeles:20250327T160000
DTSTAMP:20260419T191129
CREATED:20250306T222549Z
LAST-MODIFIED:20250306T222549Z
UID:5587-1743087600-1743091200@rumsugarlime.com
SUMMARY:Industry Tasting Class with Foursquare Rum Distillery
DESCRIPTION:Industry Tasting Class: Foursquare Rum DistilleryThursday\, March 27th | 3 PMRum Sugar Lime: 1039 S. Virginia Street – MidTown Reno\, NV\n\nJoin us for an exclusive Industry Tasting Class featuring the legendary Foursquare Rum Distillery\, sponsored by Vin Sauvage.\n\nThis is your chance to explore the full portfolio of world-class rums from Barbados—crafted with tradition\, innovation\, and uncompromising quality.\nAfter the class\, stick around for a Foursquare Happy Hour at 4 PM\, where we’ll be serving up expertly crafted cocktails featuring these exceptional rums.\n\nThis is a must-attend master class for industry professionals and rum enthusiasts alike. Don’t miss this opportunity to deepen your knowledge and appreciation of one of the finest distilleries in the world!
URL:https://rumsugarlime.com/event/industry-tasting-class-with-foursquare-rum-distillery/
LOCATION:Rum Sugar Lime\, 1039 S Virginia St\, Reno\, NV 89502\, USA\, Reno\, NV\, 89502\, United States
ATTACH;FMTTYPE=image/png:https://rumsugarlime.com/wp-content/uploads/2025/03/RSL_FoursquareTasting_Square.png
END:VEVENT
END:VCALENDAR