BEGIN:VCALENDAR
VERSION:2.0
PRODID:-//Rum Sugar Lime - ECPv6.15.20//NONSGML v1.0//EN
CALSCALE:GREGORIAN
METHOD:PUBLISH
X-WR-CALNAME:Rum Sugar Lime
X-ORIGINAL-URL:https://rumsugarlime.com
X-WR-CALDESC:Events for Rum Sugar Lime
REFRESH-INTERVAL;VALUE=DURATION:PT1H
X-Robots-Tag:noindex
X-PUBLISHED-TTL:PT1H
BEGIN:VTIMEZONE
TZID:America/Los_Angeles
BEGIN:DAYLIGHT
TZOFFSETFROM:-0800
TZOFFSETTO:-0700
TZNAME:PDT
DTSTART:20240310T100000
END:DAYLIGHT
BEGIN:STANDARD
TZOFFSETFROM:-0700
TZOFFSETTO:-0800
TZNAME:PST
DTSTART:20241103T090000
END:STANDARD
BEGIN:DAYLIGHT
TZOFFSETFROM:-0800
TZOFFSETTO:-0700
TZNAME:PDT
DTSTART:20250309T100000
END:DAYLIGHT
BEGIN:STANDARD
TZOFFSETFROM:-0700
TZOFFSETTO:-0800
TZNAME:PST
DTSTART:20251102T090000
END:STANDARD
BEGIN:DAYLIGHT
TZOFFSETFROM:-0800
TZOFFSETTO:-0700
TZNAME:PDT
DTSTART:20260308T100000
END:DAYLIGHT
BEGIN:STANDARD
TZOFFSETFROM:-0700
TZOFFSETTO:-0800
TZNAME:PST
DTSTART:20261101T090000
END:STANDARD
END:VTIMEZONE
BEGIN:VEVENT
DTSTART;TZID=America/Los_Angeles:20250321T190000
DTEND;TZID=America/Los_Angeles:20250321T233000
DTSTAMP:20260419T192414
CREATED:20250218T180705Z
LAST-MODIFIED:20250218T180856Z
UID:5566-1742583600-1742599800@rumsugarlime.com
SUMMARY: Spring Equinox Soirée 
DESCRIPTION:Celebrate the arrival of spring at Nautilus RSL on Friday\, March 21st\, with an enchanting evening of cocktails\, music\, and renewal.\n 7 P.M. – Late Seasonal cocktails & botanical flavors Uplifting sounds & celestial vibes Spring-inspired attire highly encouraged\n\nEmbrace the magic of the equinox and join us for a night of beauty\, balance\, and revelry. \n Nautilus RSL at Rum Sugar Lime#SpringEquinox #RSLNautilus #CocktailMagic
URL:https://rumsugarlime.com/event/spring-equinox-soiree/
LOCATION:NV
CATEGORIES:Nautilus Reno,Special Events
ATTACH;FMTTYPE=image/png:https://rumsugarlime.com/wp-content/uploads/2025/02/Spring-Equinox-Soiree-Post-Square.png
END:VEVENT
END:VCALENDAR