BEGIN:VCALENDAR
VERSION:2.0
PRODID:-//Rum Sugar Lime - ECPv6.15.20//NONSGML v1.0//EN
CALSCALE:GREGORIAN
METHOD:PUBLISH
X-ORIGINAL-URL:https://rumsugarlime.com
X-WR-CALDESC:Events for Rum Sugar Lime
REFRESH-INTERVAL;VALUE=DURATION:PT1H
X-Robots-Tag:noindex
X-PUBLISHED-TTL:PT1H
BEGIN:VTIMEZONE
TZID:America/Los_Angeles
BEGIN:DAYLIGHT
TZOFFSETFROM:-0800
TZOFFSETTO:-0700
TZNAME:PDT
DTSTART:20240310T100000
END:DAYLIGHT
BEGIN:STANDARD
TZOFFSETFROM:-0700
TZOFFSETTO:-0800
TZNAME:PST
DTSTART:20241103T090000
END:STANDARD
BEGIN:DAYLIGHT
TZOFFSETFROM:-0800
TZOFFSETTO:-0700
TZNAME:PDT
DTSTART:20250309T100000
END:DAYLIGHT
BEGIN:STANDARD
TZOFFSETFROM:-0700
TZOFFSETTO:-0800
TZNAME:PST
DTSTART:20251102T090000
END:STANDARD
BEGIN:DAYLIGHT
TZOFFSETFROM:-0800
TZOFFSETTO:-0700
TZNAME:PDT
DTSTART:20260308T100000
END:DAYLIGHT
BEGIN:STANDARD
TZOFFSETFROM:-0700
TZOFFSETTO:-0800
TZNAME:PST
DTSTART:20261101T090000
END:STANDARD
END:VTIMEZONE
BEGIN:VEVENT
DTSTART;TZID=America/Los_Angeles:20250131T200000
DTEND;TZID=America/Los_Angeles:20250131T220000
DTSTAMP:20260419T161433
CREATED:20250108T221606Z
LAST-MODIFIED:20250108T221606Z
UID:5498-1738353600-1738360800@rumsugarlime.com
SUMMARY:JAZZ @ RSL
DESCRIPTION:Jazz at RSL\nImmerse yourself in an unforgettable evening of live jazz with Miguel Jimenez-Cruz\, Zack Teran\, and Jordan Russell Taylor. \n Friday\, January 31\n⏰ 8 PM\n️ $5 Cover \nSettle into the warm\, tropical vibes of RSL\, where craft cocktails and the smooth sounds of jazz create the perfect blend. Whether you’re savoring a fresh tropical drink or just soaking in the ambiance\, this is an experience you won’t want to miss. \n✨ Let the music and atmosphere transport you! \n 
URL:https://rumsugarlime.com/event/jazz-rsl/
LOCATION:Rum Sugar Lime\, 1039 S Virginia St\, Reno\, NV 89502\, USA\, Reno\, NV\, 89502\, United States
CATEGORIES:Jazz,Musicians
ATTACH;FMTTYPE=image/png:https://rumsugarlime.com/wp-content/uploads/2025/01/RSL_JazzNight013125_square-01.png
END:VEVENT
END:VCALENDAR