BEGIN:VCALENDAR
VERSION:2.0
PRODID:-//Rum Sugar Lime - ECPv6.15.20//NONSGML v1.0//EN
CALSCALE:GREGORIAN
METHOD:PUBLISH
X-WR-CALNAME:Rum Sugar Lime
X-ORIGINAL-URL:https://rumsugarlime.com
X-WR-CALDESC:Events for Rum Sugar Lime
REFRESH-INTERVAL;VALUE=DURATION:PT1H
X-Robots-Tag:noindex
X-PUBLISHED-TTL:PT1H
BEGIN:VTIMEZONE
TZID:America/Los_Angeles
BEGIN:DAYLIGHT
TZOFFSETFROM:-0800
TZOFFSETTO:-0700
TZNAME:PDT
DTSTART:20240310T100000
END:DAYLIGHT
BEGIN:STANDARD
TZOFFSETFROM:-0700
TZOFFSETTO:-0800
TZNAME:PST
DTSTART:20241103T090000
END:STANDARD
BEGIN:DAYLIGHT
TZOFFSETFROM:-0800
TZOFFSETTO:-0700
TZNAME:PDT
DTSTART:20250309T100000
END:DAYLIGHT
BEGIN:STANDARD
TZOFFSETFROM:-0700
TZOFFSETTO:-0800
TZNAME:PST
DTSTART:20251102T090000
END:STANDARD
BEGIN:DAYLIGHT
TZOFFSETFROM:-0800
TZOFFSETTO:-0700
TZNAME:PDT
DTSTART:20260308T100000
END:DAYLIGHT
BEGIN:STANDARD
TZOFFSETFROM:-0700
TZOFFSETTO:-0800
TZNAME:PST
DTSTART:20261101T090000
END:STANDARD
END:VTIMEZONE
BEGIN:VEVENT
DTSTART;TZID=America/Los_Angeles:20250129T183000
DTEND;TZID=America/Los_Angeles:20250129T200000
DTSTAMP:20260419T161410
CREATED:20250108T215410Z
LAST-MODIFIED:20250108T215410Z
UID:5491-1738175400-1738180800@rumsugarlime.com
SUMMARY:Reno Rum Club is Back!
DESCRIPTION:Join us for the first Reno Rum Club meeting of 2025 on Wednesday\, January 29th\, at Nautilus RSL—our exclusive private event space. \nThis special evening features tastings of premium rums from Black Tot and Camikara\, expertly hosted by ImpEx Beverages. \nTickets are $55 per person\, with limited availability. \nSecure your spot now for an exceptional rum experience! \nTICKETS HERE!
URL:https://rumsugarlime.com/event/reno-rum-club-is-back/
LOCATION:Nautilus RSL\, 1039 1/2 S. Virginia Street\, Reno\, NV\, 89501\, United States
CATEGORIES:Nautilus Reno,Special Events
ATTACH;FMTTYPE=image/png:https://rumsugarlime.com/wp-content/uploads/2025/01/RRC_January292025_square-01.png
END:VEVENT
END:VCALENDAR