BEGIN:VCALENDAR
VERSION:2.0
PRODID:-//Rum Sugar Lime - ECPv6.15.20//NONSGML v1.0//EN
CALSCALE:GREGORIAN
METHOD:PUBLISH
X-ORIGINAL-URL:https://rumsugarlime.com
X-WR-CALDESC:Events for Rum Sugar Lime
REFRESH-INTERVAL;VALUE=DURATION:PT1H
X-Robots-Tag:noindex
X-PUBLISHED-TTL:PT1H
BEGIN:VTIMEZONE
TZID:America/Los_Angeles
BEGIN:DAYLIGHT
TZOFFSETFROM:-0800
TZOFFSETTO:-0700
TZNAME:PDT
DTSTART:20230312T100000
END:DAYLIGHT
BEGIN:STANDARD
TZOFFSETFROM:-0700
TZOFFSETTO:-0800
TZNAME:PST
DTSTART:20231105T090000
END:STANDARD
BEGIN:DAYLIGHT
TZOFFSETFROM:-0800
TZOFFSETTO:-0700
TZNAME:PDT
DTSTART:20240310T100000
END:DAYLIGHT
BEGIN:STANDARD
TZOFFSETFROM:-0700
TZOFFSETTO:-0800
TZNAME:PST
DTSTART:20241103T090000
END:STANDARD
BEGIN:DAYLIGHT
TZOFFSETFROM:-0800
TZOFFSETTO:-0700
TZNAME:PDT
DTSTART:20250309T100000
END:DAYLIGHT
BEGIN:STANDARD
TZOFFSETFROM:-0700
TZOFFSETTO:-0800
TZNAME:PST
DTSTART:20251102T090000
END:STANDARD
BEGIN:DAYLIGHT
TZOFFSETFROM:-0800
TZOFFSETTO:-0700
TZNAME:PDT
DTSTART:20260308T100000
END:DAYLIGHT
BEGIN:STANDARD
TZOFFSETFROM:-0700
TZOFFSETTO:-0800
TZNAME:PST
DTSTART:20261101T090000
END:STANDARD
END:VTIMEZONE
BEGIN:VEVENT
DTSTART;TZID=America/Los_Angeles:20241231T200000
DTEND;TZID=America/Los_Angeles:20250101T010000
DTSTAMP:20260419T143338
CREATED:20241116T165704Z
LAST-MODIFIED:20241116T165704Z
UID:5461-1735675200-1735693200@rumsugarlime.com
SUMMARY:Ring in the New Year at Rum Sugar Lime!
DESCRIPTION:Join us for our biggest event of the year as we welcome 2025 in style! DJ Brio will keep the vibes alive with an epic night of dancing\, spinning beats that carry you seamlessly into the next year. \n✨ Special Cocktails: Crafted to make your celebration unforgettable.\n✨ Door Charge: $20 — secure your spot for the night of the year! \nDon’t miss this unforgettable New Year’s Eve party at RSL. Let’s toast\, dance\, and make it a night to remember.  \nArrive early to grab your favorite spot!
URL:https://rumsugarlime.com/event/ring-in-the-new-year-at-rum-sugar-lime/
LOCATION:NV
CATEGORIES:DJs,Special Events
ATTACH;FMTTYPE=image/png:https://rumsugarlime.com/wp-content/uploads/2024/11/RSL_NYE2025_square-01.png
END:VEVENT
END:VCALENDAR