BEGIN:VCALENDAR
VERSION:2.0
PRODID:-//Rum Sugar Lime - ECPv6.15.20//NONSGML v1.0//EN
CALSCALE:GREGORIAN
METHOD:PUBLISH
X-WR-CALNAME:Rum Sugar Lime
X-ORIGINAL-URL:https://rumsugarlime.com
X-WR-CALDESC:Events for Rum Sugar Lime
REFRESH-INTERVAL;VALUE=DURATION:PT1H
X-Robots-Tag:noindex
X-PUBLISHED-TTL:PT1H
BEGIN:VTIMEZONE
TZID:America/Los_Angeles
BEGIN:DAYLIGHT
TZOFFSETFROM:-0800
TZOFFSETTO:-0700
TZNAME:PDT
DTSTART:20230312T100000
END:DAYLIGHT
BEGIN:STANDARD
TZOFFSETFROM:-0700
TZOFFSETTO:-0800
TZNAME:PST
DTSTART:20231105T090000
END:STANDARD
BEGIN:DAYLIGHT
TZOFFSETFROM:-0800
TZOFFSETTO:-0700
TZNAME:PDT
DTSTART:20240310T100000
END:DAYLIGHT
BEGIN:STANDARD
TZOFFSETFROM:-0700
TZOFFSETTO:-0800
TZNAME:PST
DTSTART:20241103T090000
END:STANDARD
BEGIN:DAYLIGHT
TZOFFSETFROM:-0800
TZOFFSETTO:-0700
TZNAME:PDT
DTSTART:20250309T100000
END:DAYLIGHT
BEGIN:STANDARD
TZOFFSETFROM:-0700
TZOFFSETTO:-0800
TZNAME:PST
DTSTART:20251102T090000
END:STANDARD
END:VTIMEZONE
BEGIN:VEVENT
DTSTART;TZID=America/Los_Angeles:20241207T200000
DTEND;TZID=America/Los_Angeles:20241207T230000
DTSTAMP:20260419T143326
CREATED:20241119T235846Z
LAST-MODIFIED:20241125T234422Z
UID:5467-1733601600-1733612400@rumsugarlime.com
SUMMARY:Jazz Night at Rum Sugar Lime
DESCRIPTION:Take a break from the hustle and bustle of holiday shopping and join us in the heart of MidTown Reno for an unforgettable evening of live music! \nFeaturing the incredible talents of Miguel Jimenez-Cruz\, Zack Teran\, and Jordan Russell\, this dynamic trio will fill the night with holiday favorites and timeless jazz classics. Their smooth and soulful sounds are the perfect way to unwind and get into the holiday spirit. \n✨ When: Saturday\, December 7th\n✨ Where: Rum Sugar Lime\, MidTown Reno \nCome for the music\, stay for our craft cocktails (or non-alcoholic creations!)\, and let the magic of the season surround you. \nNo cover | 21+ \nMake Jazz Night part of your holiday tradition—see you there! \n#MidTownReno #JazzNight #HolidayVibes
URL:https://rumsugarlime.com/event/jazz-night-at-rum-sugar-lime/
LOCATION:Rum Sugar Lime\, 1039 S Virginia St\, Reno\, NV 89502\, USA\, Reno\, NV\, 89502\, United States
CATEGORIES:Holiday,Jazz,Musicians
ATTACH;FMTTYPE=image/png:https://rumsugarlime.com/wp-content/uploads/2024/11/RSL_HolidayJazzNight_square-01-2.png
END:VEVENT
END:VCALENDAR